BEGIN:VCALENDAR
VERSION:2.0
PRODID:-//Sturton Plants - ECPv6.15.20//NONSGML v1.0//EN
CALSCALE:GREGORIAN
METHOD:PUBLISH
X-ORIGINAL-URL:https://sturtonplants.co.uk
X-WR-CALDESC:Events for Sturton Plants
REFRESH-INTERVAL;VALUE=DURATION:PT1H
X-Robots-Tag:noindex
X-PUBLISHED-TTL:PT1H
BEGIN:VTIMEZONE
TZID:Europe/London
BEGIN:DAYLIGHT
TZOFFSETFROM:+0000
TZOFFSETTO:+0100
TZNAME:BST
DTSTART:20230326T010000
END:DAYLIGHT
BEGIN:STANDARD
TZOFFSETFROM:+0100
TZOFFSETTO:+0000
TZNAME:GMT
DTSTART:20231029T010000
END:STANDARD
BEGIN:DAYLIGHT
TZOFFSETFROM:+0000
TZOFFSETTO:+0100
TZNAME:BST
DTSTART:20240331T010000
END:DAYLIGHT
BEGIN:STANDARD
TZOFFSETFROM:+0100
TZOFFSETTO:+0000
TZNAME:GMT
DTSTART:20241027T010000
END:STANDARD
BEGIN:DAYLIGHT
TZOFFSETFROM:+0000
TZOFFSETTO:+0100
TZNAME:BST
DTSTART:20250330T010000
END:DAYLIGHT
BEGIN:STANDARD
TZOFFSETFROM:+0100
TZOFFSETTO:+0000
TZNAME:GMT
DTSTART:20251026T010000
END:STANDARD
END:VTIMEZONE
BEGIN:VEVENT
DTSTART;TZID=Europe/London:20240901T090000
DTEND;TZID=Europe/London:20240901T170000
DTSTAMP:20260421T190020
CREATED:20240102T134130Z
LAST-MODIFIED:20240102T134130Z
UID:9169-1725181200-1725210000@sturtonplants.co.uk
SUMMARY:Wragby Show & Country Fayre
DESCRIPTION:We’re excited to be having a stall at this years Wragby show & country fayre. We will be bringing our range of Lincolnshire grown alpines\, herbs & herbaceous perennials. We should also have plenty of spring flowering bulbs for sale as well \nThere will be plenty to see and do including a fun dog show\, trade stands\, vintage cars & tractors\, childrens entertainers\, vegetable and animal judging\, live music\, horse show and much more… \n  \nAdmission Costs (tbc): \nAdults – 17 & Over £11.00 \nChildren – Aged 5-16 £4.00 \nChildren – Under 5 FREE \nShare this:Tweet\n				Share on WhatsApp (Opens in new window)\n				WhatsApp\n			\n				Email a link to a friend (Opens in new window)\n				Email\n			\n				Print (Opens in new window)\n				Print
URL:https://sturtonplants.co.uk/event/wragby-show-country-fayre-2/
LOCATION:Wragby Show\, Catchem's Corner\, Goltho\, Lincolnshire\, LN8 5JD\, United Kingdom
CATEGORIES:Craft & Farmers Markets,Fun Days,Village Fete/Fayre
END:VEVENT
END:VCALENDAR