BEGIN:VCALENDAR
VERSION:2.0
PRODID:-//Sturton Plants - ECPv6.15.20//NONSGML v1.0//EN
CALSCALE:GREGORIAN
METHOD:PUBLISH
X-ORIGINAL-URL:https://sturtonplants.co.uk
X-WR-CALDESC:Events for Sturton Plants
REFRESH-INTERVAL;VALUE=DURATION:PT1H
X-Robots-Tag:noindex
X-PUBLISHED-TTL:PT1H
BEGIN:VTIMEZONE
TZID:Europe/London
BEGIN:DAYLIGHT
TZOFFSETFROM:+0000
TZOFFSETTO:+0100
TZNAME:BST
DTSTART:20230326T010000
END:DAYLIGHT
BEGIN:STANDARD
TZOFFSETFROM:+0100
TZOFFSETTO:+0000
TZNAME:GMT
DTSTART:20231029T010000
END:STANDARD
BEGIN:DAYLIGHT
TZOFFSETFROM:+0000
TZOFFSETTO:+0100
TZNAME:BST
DTSTART:20240331T010000
END:DAYLIGHT
BEGIN:STANDARD
TZOFFSETFROM:+0100
TZOFFSETTO:+0000
TZNAME:GMT
DTSTART:20241027T010000
END:STANDARD
BEGIN:DAYLIGHT
TZOFFSETFROM:+0000
TZOFFSETTO:+0100
TZNAME:BST
DTSTART:20250330T010000
END:DAYLIGHT
BEGIN:STANDARD
TZOFFSETFROM:+0100
TZOFFSETTO:+0000
TZNAME:GMT
DTSTART:20251026T010000
END:STANDARD
END:VTIMEZONE
BEGIN:VEVENT
DTSTART;TZID=Europe/London:20240609T100000
DTEND;TZID=Europe/London:20240609T150000
DTSTAMP:20260421T233214
CREATED:20240213T160915Z
LAST-MODIFIED:20240213T160915Z
UID:10116-1717927200-1717945200@sturtonplants.co.uk
SUMMARY:Jerry Green North Lincolnshire Summer Show
DESCRIPTION:We are returning to the fantastic fundraising event for Jerry Green Dog Rescue. It is always a great fun day out with plenty of stalls\, activities and a dog show. \nWe will have our wide range of locally grown (in Lincolnshire\, no imports!) herbs\, alpines\, herbaceous perennials and shrubs. \nGrab a bite to eat from one of the catering stalls including woodfired pizza\, have a stroll through the selection of traders and enjoy entertainment over at the demo ring. If you are bringing your four legged friend along with you why not take part in the legendary fun dog show (for a small fee). There are lots of rosettes and prizes to be won! \nAll funds raised go directly towards caring for the dogs in the Jerry Green centres. \nModest admission charges apply \nShare this:Tweet\n				Share on WhatsApp (Opens in new window)\n				WhatsApp\n			\n				Email a link to a friend (Opens in new window)\n				Email\n			\n				Print (Opens in new window)\n				Print
URL:https://sturtonplants.co.uk/event/jerry-green-north-lincolnshire-summer-show-2/
LOCATION:Jerry Gree Dog Rescue\, Brigg Road\, Lincolnshire\, DN20 0BJ\, United Kingdom
CATEGORIES:Fun Days
ATTACH;FMTTYPE=image/jpeg:https://sturtonplants.co.uk/wp-content/uploads/2023/01/Plant-Stall.jpg
END:VEVENT
BEGIN:VEVENT
DTSTART;TZID=Europe/London:20240622T120000
DTEND;TZID=Europe/London:20240622T160000
DTSTAMP:20260421T233214
CREATED:20240213T154837Z
LAST-MODIFIED:20240213T155431Z
UID:10104-1719057600-1719072000@sturtonplants.co.uk
SUMMARY:Ingham Village Summer Fair
DESCRIPTION:We’re pleased to be returning to Ingham for the Summer Fair organised by & benefitting Little Acorns\, the local pre-school. This year there will also be a dog show. \nWe will be bringing some fantastic\, locally grown alpines\, herbs\, shrubs & herbaceous perennials and there will be plenty of other stalls and entertainments on the day. \nShare this:Tweet\n				Share on WhatsApp (Opens in new window)\n				WhatsApp\n			\n				Email a link to a friend (Opens in new window)\n				Email\n			\n				Print (Opens in new window)\n				Print
URL:https://sturtonplants.co.uk/event/ingham-village-summer-fair-2/
LOCATION:Ingham & Cammeringham Village Hall\, The Green\, Lincolnshire\, LN1 2XT
CATEGORIES:Craft & Farmers Markets,Fun Days,Village Fete/Fayre
ATTACH;FMTTYPE=image/jpeg:https://sturtonplants.co.uk/wp-content/uploads/2023/01/Plants-for-sale.jpg
END:VEVENT
END:VCALENDAR