BEGIN:VCALENDAR
VERSION:2.0
PRODID:-//Sturton Plants - ECPv6.15.20//NONSGML v1.0//EN
CALSCALE:GREGORIAN
METHOD:PUBLISH
X-WR-CALNAME:Sturton Plants
X-ORIGINAL-URL:https://sturtonplants.co.uk
X-WR-CALDESC:Events for Sturton Plants
REFRESH-INTERVAL;VALUE=DURATION:PT1H
X-Robots-Tag:noindex
X-PUBLISHED-TTL:PT1H
BEGIN:VTIMEZONE
TZID:Europe/London
BEGIN:DAYLIGHT
TZOFFSETFROM:+0000
TZOFFSETTO:+0100
TZNAME:BST
DTSTART:20230326T010000
END:DAYLIGHT
BEGIN:STANDARD
TZOFFSETFROM:+0100
TZOFFSETTO:+0000
TZNAME:GMT
DTSTART:20231029T010000
END:STANDARD
BEGIN:DAYLIGHT
TZOFFSETFROM:+0000
TZOFFSETTO:+0100
TZNAME:BST
DTSTART:20240331T010000
END:DAYLIGHT
BEGIN:STANDARD
TZOFFSETFROM:+0100
TZOFFSETTO:+0000
TZNAME:GMT
DTSTART:20241027T010000
END:STANDARD
BEGIN:DAYLIGHT
TZOFFSETFROM:+0000
TZOFFSETTO:+0100
TZNAME:BST
DTSTART:20250330T010000
END:DAYLIGHT
BEGIN:STANDARD
TZOFFSETFROM:+0100
TZOFFSETTO:+0000
TZNAME:GMT
DTSTART:20251026T010000
END:STANDARD
END:VTIMEZONE
BEGIN:VEVENT
DTSTART;TZID=Europe/London:20240720T090000
DTEND;TZID=Europe/London:20240720T140000
DTSTAMP:20260420T025949
CREATED:20240708T141028Z
LAST-MODIFIED:20240708T141028Z
UID:14982-1721466000-1721484000@sturtonplants.co.uk
SUMMARY:Hedgerows Farmers Market - Collingham
DESCRIPTION:We’re back at the Hedgerows for this excellent small farmers market. Why not come along & browse the stalls and then take refreshment in the Allotment Cafe & Deli. \nThe market has plenty of parking and is all on hard standing. \nShare this:Tweet\n				Share on WhatsApp (Opens in new window)\n				WhatsApp\n			\n				Email a link to a friend (Opens in new window)\n				Email\n			\n				Print (Opens in new window)\n				Print
URL:https://sturtonplants.co.uk/event/hedgerows-farmers-market-collingham-2/
LOCATION:The Hedgerows\, Outside Gusto House\, Collingham\, Nottinghamshire\, NG23 7DX
CATEGORIES:Craft & Farmers Markets,Pop Up Plant Stall
END:VEVENT
BEGIN:VEVENT
DTSTART;TZID=Europe/London:20240719T100000
DTEND;TZID=Europe/London:20240719T140000
DTSTAMP:20260420T025949
CREATED:20231127T111653Z
LAST-MODIFIED:20231127T111653Z
UID:8379-1721383200-1721397600@sturtonplants.co.uk
SUMMARY:Wragby Market
DESCRIPTION:Share this:Tweet\n				Share on WhatsApp (Opens in new window)\n				WhatsApp\n			\n				Email a link to a friend (Opens in new window)\n				Email\n			\n				Print (Opens in new window)\n				Print
URL:https://sturtonplants.co.uk/event/wragby-market-2/
LOCATION:The Adam & Eve Pub\, Marketplace\, Wragby\, Lincolnshire\, LN8 5QU\, United Kingdom
CATEGORIES:Craft & Farmers Markets
END:VEVENT
BEGIN:VEVENT
DTSTART;TZID=Europe/London:20240717T130000
DTEND;TZID=Europe/London:20240717T160000
DTSTAMP:20260420T025949
CREATED:20240508T115006Z
LAST-MODIFIED:20240508T115006Z
UID:12969-1721221200-1721232000@sturtonplants.co.uk
SUMMARY:Tetford Village Market & Craft Fair
DESCRIPTION:July’s event at Tetford includes the usual selection of produce traders and crafters as well this month… \nShare this:Tweet\n				Share on WhatsApp (Opens in new window)\n				WhatsApp\n			\n				Email a link to a friend (Opens in new window)\n				Email\n			\n				Print (Opens in new window)\n				Print
URL:https://sturtonplants.co.uk/event/tetford-village-market-craft-fair/
LOCATION:Hamilton Hall\, East Road\, Tetford\, Lincolnshire\, LN9 6QQ\, United Kingdom
CATEGORIES:Craft & Farmers Markets
END:VEVENT
BEGIN:VEVENT
DTSTART;TZID=Europe/London:20240716T090000
DTEND;TZID=Europe/London:20240716T140000
DTSTAMP:20260420T025949
CREATED:20240522T072016Z
LAST-MODIFIED:20240522T072016Z
UID:13496-1721120400-1721138400@sturtonplants.co.uk
SUMMARY:Market Rasen Tuesday Market
DESCRIPTION:Share this:Tweet\n				Share on WhatsApp (Opens in new window)\n				WhatsApp\n			\n				Email a link to a friend (Opens in new window)\n				Email\n			\n				Print (Opens in new window)\n				Print
URL:https://sturtonplants.co.uk/event/market-rasen-tuesday-market-37/
LOCATION:Market Place (Market Rasen)\, Market Place\, Market Rasen\, Lincolnshire\, LN8 3HJ\, United Kingdom
CATEGORIES:Pop Up Plant Stall
END:VEVENT
BEGIN:VEVENT
DTSTART;TZID=Europe/London:20240714T110000
DTEND;TZID=Europe/London:20240714T170000
DTSTAMP:20260420T025949
CREATED:20240116T113228Z
LAST-MODIFIED:20240117T150833Z
UID:9507-1720954800-1720976400@sturtonplants.co.uk
SUMMARY:Hykeham Summer Fair
DESCRIPTION:We are excited to be attending the Hykeham Summer Fair  this year. We will be bringing our wide range of hardy garden plants including herbaceous perennials\, alpines\, herbs and shrubs. All our plants are grown locally in Lincolnshire \nShare this:Tweet\n				Share on WhatsApp (Opens in new window)\n				WhatsApp\n			\n				Email a link to a friend (Opens in new window)\n				Email\n			\n				Print (Opens in new window)\n				Print
URL:https://sturtonplants.co.uk/event/hykeham-summer-fair-2/
LOCATION:North Hykeham Memorial Field\, Newark Road\, North Hykeham\, Lincolnshire\, LN6 9RY\, United Kingdom
CATEGORIES:Craft & Farmers Markets,Fun Days,Village Fete/Fayre
ATTACH;FMTTYPE=image/jpeg:https://sturtonplants.co.uk/wp-content/uploads/2024/01/Flyer.jpg
END:VEVENT
BEGIN:VEVENT
DTSTART;TZID=Europe/London:20240713T110000
DTEND;TZID=Europe/London:20240713T170000
DTSTAMP:20260420T025949
CREATED:20240116T112849Z
LAST-MODIFIED:20240116T113337Z
UID:9502-1720868400-1720890000@sturtonplants.co.uk
SUMMARY:Hykeham Summer Fair
DESCRIPTION:We are excited to be attending the Hykeham Summer Fair  this year. We will be bringing our wide range of hardy garden plants including herbaceous perennials\, alpines\, herbs and shrubs. All our plants are grown locally in Lincolnshire \nShare this:Tweet\n				Share on WhatsApp (Opens in new window)\n				WhatsApp\n			\n				Email a link to a friend (Opens in new window)\n				Email\n			\n				Print (Opens in new window)\n				Print
URL:https://sturtonplants.co.uk/event/hykeham-summer-fair/
LOCATION:North Hykeham Memorial Field\, Newark Road\, North Hykeham\, Lincolnshire\, LN6 9RY\, United Kingdom
CATEGORIES:Craft & Farmers Markets,Fun Days,Village Fete/Fayre
ATTACH;FMTTYPE=image/jpeg:https://sturtonplants.co.uk/wp-content/uploads/2024/01/Flyer.jpg
END:VEVENT
BEGIN:VEVENT
DTSTART;TZID=Europe/London:20240713T090000
DTEND;TZID=Europe/London:20240713T120000
DTSTAMP:20260420T025949
CREATED:20240307T115409Z
LAST-MODIFIED:20240307T115409Z
UID:10897-1720861200-1720872000@sturtonplants.co.uk
SUMMARY:Saxilby Farmers and Craft Market
DESCRIPTION:Share this:Tweet\n				Share on WhatsApp (Opens in new window)\n				WhatsApp\n			\n				Email a link to a friend (Opens in new window)\n				Email\n			\n				Print (Opens in new window)\n				Print
URL:https://sturtonplants.co.uk/event/saxilby-farmers-and-craft-market-4/
LOCATION:The Anglers Pub\, 65 High Street\, Saxilby\, LN1 2HA\, United Kingdom
CATEGORIES:Craft & Farmers Markets
END:VEVENT
BEGIN:VEVENT
DTSTART;TZID=Europe/London:20240711T090000
DTEND;TZID=Europe/London:20240711T120000
DTSTAMP:20260420T025949
CREATED:20240307T120255Z
LAST-MODIFIED:20240307T120255Z
UID:10907-1720688400-1720699200@sturtonplants.co.uk
SUMMARY:Welton Farmers and Craft Market
DESCRIPTION:Share this:Tweet\n				Share on WhatsApp (Opens in new window)\n				WhatsApp\n			\n				Email a link to a friend (Opens in new window)\n				Email\n			\n				Print (Opens in new window)\n				Print
URL:https://sturtonplants.co.uk/event/welton-farmers-and-craft-market-4/
LOCATION:Welton Village Hall\, 51 Ryland Road\, Welton\, Lincolnshire\, LN2 3LU\, United Kingdom
CATEGORIES:Craft & Farmers Markets
END:VEVENT
BEGIN:VEVENT
DTSTART;TZID=Europe/London:20240709T090000
DTEND;TZID=Europe/London:20240709T140000
DTSTAMP:20260420T025949
CREATED:20240522T071912Z
LAST-MODIFIED:20240522T071912Z
UID:13494-1720515600-1720533600@sturtonplants.co.uk
SUMMARY:Market Rasen Tuesday Market
DESCRIPTION:Share this:Tweet\n				Share on WhatsApp (Opens in new window)\n				WhatsApp\n			\n				Email a link to a friend (Opens in new window)\n				Email\n			\n				Print (Opens in new window)\n				Print
URL:https://sturtonplants.co.uk/event/market-rasen-tuesday-market-36/
LOCATION:Market Place (Market Rasen)\, Market Place\, Market Rasen\, Lincolnshire\, LN8 3HJ\, United Kingdom
CATEGORIES:Pop Up Plant Stall
END:VEVENT
BEGIN:VEVENT
DTSTART;TZID=Europe/London:20240706T090000
DTEND;TZID=Europe/London:20240706T140000
DTSTAMP:20260420T025949
CREATED:20240627T121154Z
LAST-MODIFIED:20240708T140911Z
UID:14764-1720256400-1720274400@sturtonplants.co.uk
SUMMARY:Hedgerows Farmers Market - Collingham
DESCRIPTION:Share this:Tweet\n				Share on WhatsApp (Opens in new window)\n				WhatsApp\n			\n				Email a link to a friend (Opens in new window)\n				Email\n			\n				Print (Opens in new window)\n				Print
URL:https://sturtonplants.co.uk/event/hedgerows-farmers-market-collingham/
LOCATION:The Hedgerows\, Outside Gusto House\, Collingham\, Nottinghamshire\, NG23 7DX
CATEGORIES:Craft & Farmers Markets
END:VEVENT
BEGIN:VEVENT
DTSTART;TZID=Europe/London:20240702T090000
DTEND;TZID=Europe/London:20240702T140000
DTSTAMP:20260420T025949
CREATED:20240522T071802Z
LAST-MODIFIED:20240522T071802Z
UID:13492-1719910800-1719928800@sturtonplants.co.uk
SUMMARY:Market Rasen Tuesday Market
DESCRIPTION:Share this:Tweet\n				Share on WhatsApp (Opens in new window)\n				WhatsApp\n			\n				Email a link to a friend (Opens in new window)\n				Email\n			\n				Print (Opens in new window)\n				Print
URL:https://sturtonplants.co.uk/event/market-rasen-tuesday-market-35/
LOCATION:Market Place (Market Rasen)\, Market Place\, Market Rasen\, Lincolnshire\, LN8 3HJ\, United Kingdom
CATEGORIES:Pop Up Plant Stall
END:VEVENT
BEGIN:VEVENT
DTSTART;TZID=Europe/London:20240629T120000
DTEND;TZID=Europe/London:20240629T180000
DTSTAMP:20260420T025949
CREATED:20231127T111212Z
LAST-MODIFIED:20231127T111313Z
UID:8376-1719662400-1719684000@sturtonplants.co.uk
SUMMARY:Wragby Community Day
DESCRIPTION:Share this:Tweet\n				Share on WhatsApp (Opens in new window)\n				WhatsApp\n			\n				Email a link to a friend (Opens in new window)\n				Email\n			\n				Print (Opens in new window)\n				Print
URL:https://sturtonplants.co.uk/event/wragby-community-day/
LOCATION:Wragby Football Pitch\, Lincoln Road\, Wragby\, Lincolnshire\, LN8 5AB\, United Kingdom
CATEGORIES:Craft & Farmers Markets,Fun Days
END:VEVENT
BEGIN:VEVENT
DTSTART;TZID=Europe/London:20240625T090000
DTEND;TZID=Europe/London:20240625T140000
DTSTAMP:20260420T025949
CREATED:20240522T071636Z
LAST-MODIFIED:20240522T071636Z
UID:13490-1719306000-1719324000@sturtonplants.co.uk
SUMMARY:Market Rasen Tuesday Market
DESCRIPTION:Share this:Tweet\n				Share on WhatsApp (Opens in new window)\n				WhatsApp\n			\n				Email a link to a friend (Opens in new window)\n				Email\n			\n				Print (Opens in new window)\n				Print
URL:https://sturtonplants.co.uk/event/market-rasen-tuesday-market-34/
LOCATION:Market Place (Market Rasen)\, Market Place\, Market Rasen\, Lincolnshire\, LN8 3HJ\, United Kingdom
CATEGORIES:Pop Up Plant Stall
END:VEVENT
BEGIN:VEVENT
DTSTART;TZID=Europe/London:20240623T110000
DTEND;TZID=Europe/London:20240623T160000
DTSTAMP:20260420T025949
CREATED:20240215T141909Z
LAST-MODIFIED:20240215T142048Z
UID:10386-1719140400-1719158400@sturtonplants.co.uk
SUMMARY:Gringley Gardens Open and Classic Car Display
DESCRIPTION:Every 2nd year the beautiful village of Gringley on the Hill hosts its Open Gardens And Classic Car show. \nVarious gardens around the village are opened to the public (typically 6-8 gardens)\, the Community Centre (inside trade stalls)\, Church and playing fields which hosts the classic cars and outdoor trade stands. Cars will be displayed on the playing field\, where there will be a bar\, hot and cold food\, toilets and a number of trade stalls (30 in 2022). Unfortunately\, dogs are not permitted on the playing field. There will be transport around the village to the most remote gardens etc. \nWe will be bringing our range of Lincolnshire grown hardy garden plants including herbs\, alpines\, shrubs and herbaceous perennials along with peat free compost etc. Our stall will be on the playing fields where the classic cars are displayed. \nAdmission charges apply. \nShare this:Tweet\n				Share on WhatsApp (Opens in new window)\n				WhatsApp\n			\n				Email a link to a friend (Opens in new window)\n				Email\n			\n				Print (Opens in new window)\n				Print
URL:https://sturtonplants.co.uk/event/gringley-gardens-open-and-classic-car-display/
LOCATION:Gringley on the Hill\, Nottinghamshire\, DN10 4SF
END:VEVENT
BEGIN:VEVENT
DTSTART;TZID=Europe/London:20240622T120000
DTEND;TZID=Europe/London:20240622T160000
DTSTAMP:20260420T025949
CREATED:20240213T154837Z
LAST-MODIFIED:20240213T155431Z
UID:10104-1719057600-1719072000@sturtonplants.co.uk
SUMMARY:Ingham Village Summer Fair
DESCRIPTION:We’re pleased to be returning to Ingham for the Summer Fair organised by & benefitting Little Acorns\, the local pre-school. This year there will also be a dog show. \nWe will be bringing some fantastic\, locally grown alpines\, herbs\, shrubs & herbaceous perennials and there will be plenty of other stalls and entertainments on the day. \nShare this:Tweet\n				Share on WhatsApp (Opens in new window)\n				WhatsApp\n			\n				Email a link to a friend (Opens in new window)\n				Email\n			\n				Print (Opens in new window)\n				Print
URL:https://sturtonplants.co.uk/event/ingham-village-summer-fair-2/
LOCATION:Ingham & Cammeringham Village Hall\, The Green\, Lincolnshire\, LN1 2XT
CATEGORIES:Craft & Farmers Markets,Fun Days,Village Fete/Fayre
ATTACH;FMTTYPE=image/jpeg:https://sturtonplants.co.uk/wp-content/uploads/2023/01/Plants-for-sale.jpg
END:VEVENT
BEGIN:VEVENT
DTSTART;TZID=Europe/London:20240622T090000
DTEND;TZID=Europe/London:20240622T120000
DTSTAMP:20260420T025949
CREATED:20231127T113359Z
LAST-MODIFIED:20231127T113359Z
UID:8395-1719046800-1719057600@sturtonplants.co.uk
SUMMARY:Burton Road Farmers Market
DESCRIPTION:Share this:Tweet\n				Share on WhatsApp (Opens in new window)\n				WhatsApp\n			\n				Email a link to a friend (Opens in new window)\n				Email\n			\n				Print (Opens in new window)\n				Print
URL:https://sturtonplants.co.uk/event/burton-road-farmers-market-6/
LOCATION:All Saints Church\, Burton Road\, Lincoln\, Lincolnshire\, LN1 3TX\, United Kingdom
CATEGORIES:Craft & Farmers Markets
END:VEVENT
BEGIN:VEVENT
DTSTART;TZID=Europe/London:20240618T090000
DTEND;TZID=Europe/London:20240618T140000
DTSTAMP:20260420T025949
CREATED:20240522T071526Z
LAST-MODIFIED:20240522T071526Z
UID:13488-1718701200-1718719200@sturtonplants.co.uk
SUMMARY:Market Rasen Tuesday Market
DESCRIPTION:Share this:Tweet\n				Share on WhatsApp (Opens in new window)\n				WhatsApp\n			\n				Email a link to a friend (Opens in new window)\n				Email\n			\n				Print (Opens in new window)\n				Print
URL:https://sturtonplants.co.uk/event/market-rasen-tuesday-market-33/
LOCATION:Market Place (Market Rasen)\, Market Place\, Market Rasen\, Lincolnshire\, LN8 3HJ\, United Kingdom
CATEGORIES:Pop Up Plant Stall
END:VEVENT
BEGIN:VEVENT
DTSTART;TZID=Europe/London:20240616T100000
DTEND;TZID=Europe/London:20240616T160000
DTSTAMP:20260420T025949
CREATED:20240125T114931Z
LAST-MODIFIED:20240125T114931Z
UID:9937-1718532000-1718553600@sturtonplants.co.uk
SUMMARY:Normanby Hall Food & Flowers Event
DESCRIPTION:Sturton Plants are proud to announce that we have been invited back to the Normanby Hall Food & Flowers Event. We will be bringing our range of herbs\, alpines\, herbaceous perennials and shrubs. All our plants are grown in Lincolnshire and are used to the vagaries of the Lincolnshire & Yorkshire climates! \nLast years event was very busy with a good selection of plant\, craft and food stalls. \n \nAdmission charges may apply. See the Normanby Hall website/social media for details. \nShare this:Tweet\n				Share on WhatsApp (Opens in new window)\n				WhatsApp\n			\n				Email a link to a friend (Opens in new window)\n				Email\n			\n				Print (Opens in new window)\n				Print
URL:https://sturtonplants.co.uk/event/normanby-hall-food-flowers-event/
LOCATION:Normanby Hall\, Normanby Hall Country Park\, Scunthorpe\, North Lincolnshire\, DN15 9HU\, United Kingdom
CATEGORIES:Country Show,Craft & Farmers Markets,Fun Days,Pop Up Plant Stall
ATTACH;FMTTYPE=image/jpeg:https://sturtonplants.co.uk/wp-content/uploads/2023/01/normanby-hall-2.jpg
END:VEVENT
BEGIN:VEVENT
DTSTART;TZID=Europe/London:20240616T090000
DTEND;TZID=Europe/London:20240616T140000
DTSTAMP:20260420T025949
CREATED:20240502T194552Z
LAST-MODIFIED:20240605T185257Z
UID:12748-1718528400-1718546400@sturtonplants.co.uk
SUMMARY:Hykeham Village Pop Up Market
DESCRIPTION:Share this:Tweet\n				Share on WhatsApp (Opens in new window)\n				WhatsApp\n			\n				Email a link to a friend (Opens in new window)\n				Email\n			\n				Print (Opens in new window)\n				Print
URL:https://sturtonplants.co.uk/event/hykeham-village-pop-up-market-3/
LOCATION:Hykeham Village Green\, North Hykeham\, Lincolnshire\, LN6 8NH\, United Kingdom
CATEGORIES:Craft & Farmers Markets
END:VEVENT
BEGIN:VEVENT
DTSTART;TZID=Europe/London:20240615T100000
DTEND;TZID=Europe/London:20240615T130000
DTSTAMP:20260420T025949
CREATED:20240307T123557Z
LAST-MODIFIED:20240307T123557Z
UID:10936-1718445600-1718456400@sturtonplants.co.uk
SUMMARY:Fiskerton Market
DESCRIPTION:Share this:Tweet\n				Share on WhatsApp (Opens in new window)\n				WhatsApp\n			\n				Email a link to a friend (Opens in new window)\n				Email\n			\n				Print (Opens in new window)\n				Print
URL:https://sturtonplants.co.uk/event/fiskerton-market-4/
LOCATION:Fiskerton Village Hall\, Ferry Rd\, Fiskerton\, Lincolnshire\, LN3 4HW\, United Kingdom
CATEGORIES:Craft & Farmers Markets
END:VEVENT
BEGIN:VEVENT
DTSTART;TZID=Europe/London:20240615T090000
DTEND;TZID=Europe/London:20240615T130000
DTSTAMP:20260420T025949
CREATED:20240502T194226Z
LAST-MODIFIED:20240502T194226Z
UID:12746-1718442000-1718456400@sturtonplants.co.uk
SUMMARY:Collingham Farmers Market
DESCRIPTION:Share this:Tweet\n				Share on WhatsApp (Opens in new window)\n				WhatsApp\n			\n				Email a link to a friend (Opens in new window)\n				Email\n			\n				Print (Opens in new window)\n				Print
URL:https://sturtonplants.co.uk/event/collingham-farmers-market-2/
LOCATION:Phoenix Hall\, Station Road\, Collingham\, NG23 7RA\, United Kingdom
CATEGORIES:Craft & Farmers Markets
END:VEVENT
BEGIN:VEVENT
DTSTART;TZID=Europe/London:20240613T090000
DTEND;TZID=Europe/London:20240613T120000
DTSTAMP:20260420T025949
CREATED:20240307T120146Z
LAST-MODIFIED:20240307T120146Z
UID:10905-1718269200-1718280000@sturtonplants.co.uk
SUMMARY:Welton Farmers and Craft Market
DESCRIPTION:Share this:Tweet\n				Share on WhatsApp (Opens in new window)\n				WhatsApp\n			\n				Email a link to a friend (Opens in new window)\n				Email\n			\n				Print (Opens in new window)\n				Print
URL:https://sturtonplants.co.uk/event/welton-farmers-and-craft-market-3/
LOCATION:Welton Village Hall\, 51 Ryland Road\, Welton\, Lincolnshire\, LN2 3LU\, United Kingdom
END:VEVENT
BEGIN:VEVENT
DTSTART;TZID=Europe/London:20240611T090000
DTEND;TZID=Europe/London:20240611T140000
DTSTAMP:20260420T025949
CREATED:20240522T071332Z
LAST-MODIFIED:20240522T071411Z
UID:13486-1718096400-1718114400@sturtonplants.co.uk
SUMMARY:Market Rasen Tuesday Market
DESCRIPTION:Share this:Tweet\n				Share on WhatsApp (Opens in new window)\n				WhatsApp\n			\n				Email a link to a friend (Opens in new window)\n				Email\n			\n				Print (Opens in new window)\n				Print
URL:https://sturtonplants.co.uk/event/market-rasen-tuesday-market-32/
LOCATION:Market Place (Market Rasen)\, Market Place\, Market Rasen\, Lincolnshire\, LN8 3HJ\, United Kingdom
CATEGORIES:Pop Up Plant Stall
END:VEVENT
BEGIN:VEVENT
DTSTART;TZID=Europe/London:20240609T100000
DTEND;TZID=Europe/London:20240609T150000
DTSTAMP:20260420T025949
CREATED:20240213T160915Z
LAST-MODIFIED:20240213T160915Z
UID:10116-1717927200-1717945200@sturtonplants.co.uk
SUMMARY:Jerry Green North Lincolnshire Summer Show
DESCRIPTION:We are returning to the fantastic fundraising event for Jerry Green Dog Rescue. It is always a great fun day out with plenty of stalls\, activities and a dog show. \nWe will have our wide range of locally grown (in Lincolnshire\, no imports!) herbs\, alpines\, herbaceous perennials and shrubs. \nGrab a bite to eat from one of the catering stalls including woodfired pizza\, have a stroll through the selection of traders and enjoy entertainment over at the demo ring. If you are bringing your four legged friend along with you why not take part in the legendary fun dog show (for a small fee). There are lots of rosettes and prizes to be won! \nAll funds raised go directly towards caring for the dogs in the Jerry Green centres. \nModest admission charges apply \nShare this:Tweet\n				Share on WhatsApp (Opens in new window)\n				WhatsApp\n			\n				Email a link to a friend (Opens in new window)\n				Email\n			\n				Print (Opens in new window)\n				Print
URL:https://sturtonplants.co.uk/event/jerry-green-north-lincolnshire-summer-show-2/
LOCATION:Jerry Gree Dog Rescue\, Brigg Road\, Lincolnshire\, DN20 0BJ\, United Kingdom
CATEGORIES:Fun Days
ATTACH;FMTTYPE=image/jpeg:https://sturtonplants.co.uk/wp-content/uploads/2023/01/Plant-Stall.jpg
END:VEVENT
BEGIN:VEVENT
DTSTART;TZID=Europe/London:20240608T090000
DTEND;TZID=Europe/London:20240608T120000
DTSTAMP:20260420T025949
CREATED:20240307T115247Z
LAST-MODIFIED:20240307T115247Z
UID:10891-1717837200-1717848000@sturtonplants.co.uk
SUMMARY:Saxilby Farmers and Craft Market
DESCRIPTION:Share this:Tweet\n				Share on WhatsApp (Opens in new window)\n				WhatsApp\n			\n				Email a link to a friend (Opens in new window)\n				Email\n			\n				Print (Opens in new window)\n				Print
URL:https://sturtonplants.co.uk/event/saxilby-farmers-and-craft-market-3/
LOCATION:The Anglers Pub\, 65 High Street\, Saxilby\, LN1 2HA\, United Kingdom
CATEGORIES:Craft & Farmers Markets
END:VEVENT
BEGIN:VEVENT
DTSTART;TZID=Europe/London:20240604T090000
DTEND;TZID=Europe/London:20240604T140000
DTSTAMP:20260420T025949
CREATED:20240522T071242Z
LAST-MODIFIED:20240522T071242Z
UID:13484-1717491600-1717509600@sturtonplants.co.uk
SUMMARY:Market Rasen Tuesday Market
DESCRIPTION:Share this:Tweet\n				Share on WhatsApp (Opens in new window)\n				WhatsApp\n			\n				Email a link to a friend (Opens in new window)\n				Email\n			\n				Print (Opens in new window)\n				Print
URL:https://sturtonplants.co.uk/event/market-rasen-tuesday-market-31/
LOCATION:Market Place (Market Rasen)\, Market Place\, Market Rasen\, Lincolnshire\, LN8 3HJ\, United Kingdom
END:VEVENT
BEGIN:VEVENT
DTSTART;TZID=Europe/London:20240602T130000
DTEND;TZID=Europe/London:20240602T170000
DTSTAMP:20260420T025949
CREATED:20240508T150125Z
LAST-MODIFIED:20240508T150125Z
UID:12983-1717333200-1717347600@sturtonplants.co.uk
SUMMARY:Swinderby Summer Sunday
DESCRIPTION:Share this:Tweet\n				Share on WhatsApp (Opens in new window)\n				WhatsApp\n			\n				Email a link to a friend (Opens in new window)\n				Email\n			\n				Print (Opens in new window)\n				Print
URL:https://sturtonplants.co.uk/event/swinderby-summer-sunday/
LOCATION:Jubilee Play Park\, Opposite Pub\, High Street\, Swinderby\, LN6 9LW
CATEGORIES:Fun Days,Village Fete/Fayre
ATTACH;FMTTYPE=image/jpeg:https://sturtonplants.co.uk/wp-content/uploads/2024/05/SSS-poster-only-A4.jpg
END:VEVENT
BEGIN:VEVENT
DTSTART;TZID=Europe/London:20240601T090000
DTEND;TZID=Europe/London:20240601T130000
DTSTAMP:20260420T025949
CREATED:20240428T112121Z
LAST-MODIFIED:20240428T112121Z
UID:12695-1717232400-1717246800@sturtonplants.co.uk
SUMMARY:Collingham Farmers Market
DESCRIPTION:We are proud to announce that we have been selected to attend the new\, fortnightly farmers market in Collingham. It is at the Phoenix Hall\, Station Road. \nThere will be a wide range of carefully selected local produce suppliers bringing you quality products at great prices. \nWe will have a wide range of colourful plants for your garden including herbaceous perennials\, alpines\, herbs / edibles and bedding plants. \nAll our plants are locally propagated and grown (nothing imported or grown outside of Lincolnshire/Nottinghamshire). \n                                                                                                                                                                                                                                                                \nShare this:Tweet\n				Share on WhatsApp (Opens in new window)\n				WhatsApp\n			\n				Email a link to a friend (Opens in new window)\n				Email\n			\n				Print (Opens in new window)\n				Print
URL:https://sturtonplants.co.uk/event/collingham-farmers-market/
LOCATION:Phoenix Hall\, Station Road\, Collingham\, NG23 7RA\, United Kingdom
CATEGORIES:Craft & Farmers Markets
ATTACH;FMTTYPE=image/jpeg:https://sturtonplants.co.uk/wp-content/uploads/2024/04/Collingham-Farmers-Market.jpg
END:VEVENT
BEGIN:VEVENT
DTSTART;TZID=Europe/London:20240528T090000
DTEND;TZID=Europe/London:20240528T160000
DTSTAMP:20260420T025949
CREATED:20240522T071126Z
LAST-MODIFIED:20240522T071126Z
UID:13479-1716886800-1716912000@sturtonplants.co.uk
SUMMARY:Market Rasen Tuesday Market
DESCRIPTION:Share this:Tweet\n				Share on WhatsApp (Opens in new window)\n				WhatsApp\n			\n				Email a link to a friend (Opens in new window)\n				Email\n			\n				Print (Opens in new window)\n				Print
URL:https://sturtonplants.co.uk/event/market-rasen-tuesday-market-30/
LOCATION:Market Place (Market Rasen)\, Market Place\, Market Rasen\, Lincolnshire\, LN8 3HJ\, United Kingdom
END:VEVENT
BEGIN:VEVENT
DTSTART;TZID=Europe/London:20240526T100000
DTEND;TZID=Europe/London:20240526T170000
DTSTAMP:20260420T025949
CREATED:20240508T115815Z
LAST-MODIFIED:20240526T084005Z
UID:12977-1716717600-1716742800@sturtonplants.co.uk
SUMMARY:Hardys Farmers Market at Hardys Animal Farm
DESCRIPTION:We’re delighted to have been invited to attend the new Farmers Market at Hardys Animal Farm. \nHardy’s Farmers Market aims to bring together the best of Lincolnshire’s Local Produce\, Artisan Products and Homemade Crafts all alongside the usual farmyard fun and activities. Entrance to the Farmers Market is all included in the price of admission to Hardy’s Animal Farm. \n2024 is the first year that the event has been organised and we are hoping for a fantastic event and to build upon its success. \nThe market is on both Saturday & Sunday\, however\, due to previous commitments\, Sturton Plants can only attend on the Sunday. \nSorry\, we have been unable to attend due to broken suspension on our van. We hope everyone enjoys the event and it is a huge success \n  \n  \n  \n  \nShare this:Tweet\n				Share on WhatsApp (Opens in new window)\n				WhatsApp\n			\n				Email a link to a friend (Opens in new window)\n				Email\n			\n				Print (Opens in new window)\n				Print
URL:https://sturtonplants.co.uk/event/hardys-farmers-market-at-hardys-animal-farm/
LOCATION:Hardys Aimal Farm\, Anchor Ln\, Ingoldmells\,\, Skegness\, Lincolnshire\, PE25 1LZ
CATEGORIES:Craft & Farmers Markets,Fun Days
ATTACH;FMTTYPE=image/png:https://sturtonplants.co.uk/wp-content/uploads/2024/05/Hardys-Farmers-Market-Square.png
END:VEVENT
END:VCALENDAR