BEGIN:VCALENDAR
VERSION:2.0
PRODID:-//Sturton Plants - ECPv6.15.20//NONSGML v1.0//EN
CALSCALE:GREGORIAN
METHOD:PUBLISH
X-WR-CALNAME:Sturton Plants
X-ORIGINAL-URL:https://sturtonplants.co.uk
X-WR-CALDESC:Events for Sturton Plants
REFRESH-INTERVAL;VALUE=DURATION:PT1H
X-Robots-Tag:noindex
X-PUBLISHED-TTL:PT1H
BEGIN:VTIMEZONE
TZID:Europe/London
BEGIN:DAYLIGHT
TZOFFSETFROM:+0000
TZOFFSETTO:+0100
TZNAME:BST
DTSTART:20240331T010000
END:DAYLIGHT
BEGIN:STANDARD
TZOFFSETFROM:+0100
TZOFFSETTO:+0000
TZNAME:GMT
DTSTART:20241027T010000
END:STANDARD
BEGIN:DAYLIGHT
TZOFFSETFROM:+0000
TZOFFSETTO:+0100
TZNAME:BST
DTSTART:20250330T010000
END:DAYLIGHT
BEGIN:STANDARD
TZOFFSETFROM:+0100
TZOFFSETTO:+0000
TZNAME:GMT
DTSTART:20251026T010000
END:STANDARD
BEGIN:DAYLIGHT
TZOFFSETFROM:+0000
TZOFFSETTO:+0100
TZNAME:BST
DTSTART:20260329T010000
END:DAYLIGHT
BEGIN:STANDARD
TZOFFSETFROM:+0100
TZOFFSETTO:+0000
TZNAME:GMT
DTSTART:20261025T010000
END:STANDARD
END:VTIMEZONE
BEGIN:VEVENT
DTSTART;TZID=Europe/London:20250521T100000
DTEND;TZID=Europe/London:20250521T130000
DTSTAMP:20260419T175431
CREATED:20250515T073553Z
LAST-MODIFIED:20250515T073842Z
UID:21198-1747821600-1747832400@sturtonplants.co.uk
SUMMARY:Lincoln City Square Pop Up
DESCRIPTION:Share this:Tweet\n				Share on WhatsApp (Opens in new window)\n				WhatsApp\n			\n				Email a link to a friend (Opens in new window)\n				Email\n			\n				Print (Opens in new window)\n				Print
URL:https://sturtonplants.co.uk/event/lincoln-city-square-pop-up-2/
LOCATION:City Square\, Lincoln\, LN5 7EJ
CATEGORIES:Craft & Farmers Markets,Pop Up Plant Stall
END:VEVENT
BEGIN:VEVENT
DTSTART;TZID=Europe/London:20250520T090000
DTEND;TZID=Europe/London:20250520T140000
DTSTAMP:20260419T175431
CREATED:20250226T104123Z
LAST-MODIFIED:20250226T112120Z
UID:19111-1747731600-1747749600@sturtonplants.co.uk
SUMMARY:Market Rasen Tuesday Market
DESCRIPTION:We have a wide range of alpine plants\, herbaceous perennials\, herbs\, edibles and some shrubs. All our plants are excellent value and grown hard here in Lincolnshire so they will establish quickly in your garden. We have plants for most situations… \nShare this:Tweet\n				Share on WhatsApp (Opens in new window)\n				WhatsApp\n			\n				Email a link to a friend (Opens in new window)\n				Email\n			\n				Print (Opens in new window)\n				Print
URL:https://sturtonplants.co.uk/event/market-rasen-tuesday-market-55/
LOCATION:Market Place (Market Rasen)\, Market Place\, Market Rasen\, Lincolnshire\, LN8 3HJ\, United Kingdom
CATEGORIES:Pop Up Plant Stall
END:VEVENT
BEGIN:VEVENT
DTSTART;TZID=Europe/London:20250519T090000
DTEND;TZID=Europe/London:20250519T140000
DTSTAMP:20260419T175431
CREATED:20250305T102207Z
LAST-MODIFIED:20250305T102207Z
UID:19281-1747645200-1747663200@sturtonplants.co.uk
SUMMARY:Spilsby Market
DESCRIPTION:This year you will find us at the statue end opposite the Sweet Vanilla Craft shop and The White Hart Hotel. We will have a wide range of plants ethically grown in Lincolnshire.  \nShare this:Tweet\n				Share on WhatsApp (Opens in new window)\n				WhatsApp\n			\n				Email a link to a friend (Opens in new window)\n				Email\n			\n				Print (Opens in new window)\n				Print
URL:https://sturtonplants.co.uk/event/spilsby-market-15/
LOCATION:Spilsby Market Place\, PE23 5JT
CATEGORIES:Craft & Farmers Markets,Pop Up Plant Stall
END:VEVENT
BEGIN:VEVENT
DTSTART;TZID=Europe/London:20250518T093000
DTEND;TZID=Europe/London:20250518T170000
DTSTAMP:20260419T175431
CREATED:20250120T160450Z
LAST-MODIFIED:20250312T115903Z
UID:18220-1747560600-1747587600@sturtonplants.co.uk
SUMMARY:Woodhall Spa Country Show 2025
DESCRIPTION:We will have our wide range of locally grown garden plants\, herbs & edibles on Stall B1 at the Woodhall Spa Country Show. It really is a great regional show and has everything you would expect at a great Country Show including produce shows\, excellent local stalls\, brilliant entertainers and much more… \nAdmission charges apply\, check social media for details. \nShare this:Tweet\n				Share on WhatsApp (Opens in new window)\n				WhatsApp\n			\n				Email a link to a friend (Opens in new window)\n				Email\n			\n				Print (Opens in new window)\n				Print
URL:https://sturtonplants.co.uk/event/woodhall-spa-country-show-2025/
LOCATION:The New Showfield\, Gree Lane\, Woodhall Spa\, LN10 6QY\, The New Showfield\, Green Lane\, Woodhall Spa\, Lincolnshire\, LN10 6QY\, United Kingdom
CATEGORIES:Country Show,Fun Days,Pop Up Plant Stall,Village Fete/Fayre
ATTACH;FMTTYPE=image/jpeg:https://sturtonplants.co.uk/wp-content/uploads/2024/01/Woodhall-Image.jpeg
END:VEVENT
BEGIN:VEVENT
DTSTART;TZID=Europe/London:20250517T090000
DTEND;TZID=Europe/London:20250517T140000
DTSTAMP:20260419T175431
CREATED:20250502T182458Z
LAST-MODIFIED:20250502T182458Z
UID:20844-1747472400-1747490400@sturtonplants.co.uk
SUMMARY:Collingham Pop Up
DESCRIPTION:Share this:Tweet\n				Share on WhatsApp (Opens in new window)\n				WhatsApp\n			\n				Email a link to a friend (Opens in new window)\n				Email\n			\n				Print (Opens in new window)\n				Print
URL:https://sturtonplants.co.uk/event/collingham-pop-up-3/
LOCATION:The Hedgerows\, Outside Gusto House\, Collingham\, Nottinghamshire\, NG23 7DX
CATEGORIES:Craft & Farmers Markets,Pop Up Plant Stall
END:VEVENT
BEGIN:VEVENT
DTSTART;TZID=Europe/London:20250514T100000
DTEND;TZID=Europe/London:20250514T130000
DTSTAMP:20260419T175431
CREATED:20250430T115751Z
LAST-MODIFIED:20250515T073758Z
UID:20668-1747216800-1747227600@sturtonplants.co.uk
SUMMARY:Lincoln City Square Pop Up
DESCRIPTION:We are trialling a new venue for us so hope you can come along and support your local traders. \nWe will be in City Square (between The Cornhill & Waterside) on Wednesday 14th May 10:00-13:00 with our wide range of locally grown plants… \nOther traders will include Bread + Cheese and Nathan Willows Fresh Produce and hopefully some other traders as well. \n  \nShare this:Tweet\n				Share on WhatsApp (Opens in new window)\n				WhatsApp\n			\n				Email a link to a friend (Opens in new window)\n				Email\n			\n				Print (Opens in new window)\n				Print
URL:https://sturtonplants.co.uk/event/lincoln-city-square-pop-up/
LOCATION:City Square\, Lincoln\, LN5 7EJ
END:VEVENT
BEGIN:VEVENT
DTSTART;TZID=Europe/London:20250513T090000
DTEND;TZID=Europe/London:20250513T140000
DTSTAMP:20260419T175431
CREATED:20250226T104120Z
LAST-MODIFIED:20250226T112225Z
UID:19110-1747126800-1747144800@sturtonplants.co.uk
SUMMARY:Market Rasen Tuesday Market
DESCRIPTION:We have a wide range of alpine plants\, herbaceous perennials\, herbs\, edibles and some shrubs. All our plants are excellent value and grown hard here in Lincolnshire so they will establish quickly in your garden. We have plants for most situations… \nShare this:Tweet\n				Share on WhatsApp (Opens in new window)\n				WhatsApp\n			\n				Email a link to a friend (Opens in new window)\n				Email\n			\n				Print (Opens in new window)\n				Print
URL:https://sturtonplants.co.uk/event/market-rasen-tuesday-market-54/
LOCATION:Market Place (Market Rasen)\, Market Place\, Market Rasen\, Lincolnshire\, LN8 3HJ\, United Kingdom
CATEGORIES:Pop Up Plant Stall
END:VEVENT
BEGIN:VEVENT
DTSTART;TZID=Europe/London:20250512T090000
DTEND;TZID=Europe/London:20250512T140000
DTSTAMP:20260419T175431
CREATED:20250305T102206Z
LAST-MODIFIED:20250305T102206Z
UID:19280-1747040400-1747058400@sturtonplants.co.uk
SUMMARY:Spilsby Market
DESCRIPTION:This year you will find us at the statue end opposite the Sweet Vanilla Craft shop and The White Hart Hotel. We will have a wide range of plants ethically grown in Lincolnshire.  \nShare this:Tweet\n				Share on WhatsApp (Opens in new window)\n				WhatsApp\n			\n				Email a link to a friend (Opens in new window)\n				Email\n			\n				Print (Opens in new window)\n				Print
URL:https://sturtonplants.co.uk/event/spilsby-market-14/
LOCATION:Spilsby Market Place\, PE23 5JT
CATEGORIES:Craft & Farmers Markets,Pop Up Plant Stall
END:VEVENT
BEGIN:VEVENT
DTSTART;TZID=Europe/London:20250511T130000
DTEND;TZID=Europe/London:20250511T160000
DTSTAMP:20260419T175431
CREATED:20250430T120257Z
LAST-MODIFIED:20250430T121633Z
UID:20682-1746968400-1746979200@sturtonplants.co.uk
SUMMARY:North Scarle VE Day Anniversary Event
DESCRIPTION:To Commemorate the 80th Anniversary of Victory in Europe there will be a great village event in North Scarle with plenty to do & stalls to peruse. There will also be vintage vehicles\, a tombola\, refreshments and a display of memorabilia. \nWe will be bringing a wide range of locally grown plants including herbs\, alpines\, shrubs\, edible & herbaceous perennials… \nShare this:Tweet\n				Share on WhatsApp (Opens in new window)\n				WhatsApp\n			\n				Email a link to a friend (Opens in new window)\n				Email\n			\n				Print (Opens in new window)\n				Print
URL:https://sturtonplants.co.uk/event/saxilby-market/
LOCATION:North Scarle Village Hall\, Lincoln\, Lincolnshire\, LN6 9ER
END:VEVENT
BEGIN:VEVENT
DTSTART;TZID=Europe/London:20250510T090000
DTEND;TZID=Europe/London:20250510T120000
DTSTAMP:20260419T175431
CREATED:20250505T203143Z
LAST-MODIFIED:20250505T203143Z
UID:20947-1746867600-1746878400@sturtonplants.co.uk
SUMMARY:Saxilby Pop Up PLant Stall
DESCRIPTION:We will be bringing a wide range of locally grown plants including bedding plants to the car park behind the Anglers Pub\, Saxilby \nShare this:Tweet\n				Share on WhatsApp (Opens in new window)\n				WhatsApp\n			\n				Email a link to a friend (Opens in new window)\n				Email\n			\n				Print (Opens in new window)\n				Print
URL:https://sturtonplants.co.uk/event/saxilby-pop-up-plant-stall/
LOCATION:The Anglers Pub\, 65 High Street\, Saxilby\, LN1 2HA\, United Kingdom
END:VEVENT
BEGIN:VEVENT
DTSTART;TZID=Europe/London:20250506T090000
DTEND;TZID=Europe/London:20250506T140000
DTSTAMP:20260419T175431
CREATED:20250226T104117Z
LAST-MODIFIED:20250226T112325Z
UID:19109-1746522000-1746540000@sturtonplants.co.uk
SUMMARY:Market Rasen Tuesday Market
DESCRIPTION:We have a wide range of alpine plants\, herbaceous perennials\, herbs\, edibles and some shrubs. All our plants are excellent value and grown hard here in Lincolnshire so they will establish quickly in your garden. We have plants for most situations… \nShare this:Tweet\n				Share on WhatsApp (Opens in new window)\n				WhatsApp\n			\n				Email a link to a friend (Opens in new window)\n				Email\n			\n				Print (Opens in new window)\n				Print
URL:https://sturtonplants.co.uk/event/market-rasen-tuesday-market-53/
LOCATION:Market Place (Market Rasen)\, Market Place\, Market Rasen\, Lincolnshire\, LN8 3HJ\, United Kingdom
CATEGORIES:Pop Up Plant Stall
END:VEVENT
BEGIN:VEVENT
DTSTART;TZID=Europe/London:20250505T120000
DTEND;TZID=Europe/London:20250505T170000
DTSTAMP:20260419T175431
CREATED:20250310T125048Z
LAST-MODIFIED:20250310T125143Z
UID:19351-1746446400-1746464400@sturtonplants.co.uk
SUMMARY:Welton Village May Fair 2025
DESCRIPTION:We are delighted to be asked back to this fantastic May Fair with our range of Lincolnshire grown garden plants  on May bank Holiday Monday. \nShare this:Tweet\n				Share on WhatsApp (Opens in new window)\n				WhatsApp\n			\n				Email a link to a friend (Opens in new window)\n				Email\n			\n				Print (Opens in new window)\n				Print
URL:https://sturtonplants.co.uk/event/welton-village-may-fair-2025/
LOCATION:Welton Village Green\, LN2 3LT
CATEGORIES:Craft & Farmers Markets,Fun Days,Pop Up Plant Stall,Village Fete/Fayre
END:VEVENT
BEGIN:VEVENT
DTSTART;TZID=Europe/London:20250503T100000
DTEND;TZID=Europe/London:20250503T160000
DTSTAMP:20260419T175431
CREATED:20250219T101836Z
LAST-MODIFIED:20250219T104956Z
UID:18860-1746266400-1746288000@sturtonplants.co.uk
SUMMARY:Spilsby Saturday Market
DESCRIPTION:We have a wide range of alpine plants\, herbaceous perennials\, herbs\, edibles and some shrubs. All our plants are excellent value and grown hard here in Lincolnshire so they will establish quickly in your garden. We have plants for most situations… \nShare this:Tweet\n				Share on WhatsApp (Opens in new window)\n				WhatsApp\n			\n				Email a link to a friend (Opens in new window)\n				Email\n			\n				Print (Opens in new window)\n				Print
URL:https://sturtonplants.co.uk/event/spilsby-saturday-market-5/
LOCATION:Spilsby Market Place\, PE23 5JT
CATEGORIES:Craft & Farmers Markets
END:VEVENT
BEGIN:VEVENT
DTSTART;TZID=Europe/London:20250429T090000
DTEND;TZID=Europe/London:20250429T140000
DTSTAMP:20260419T175431
CREATED:20250226T104107Z
LAST-MODIFIED:20250226T112428Z
UID:19108-1745917200-1745935200@sturtonplants.co.uk
SUMMARY:Market Rasen Tuesday Market
DESCRIPTION:We have a wide range of alpine plants\, herbaceous perennials\, herbs\, edibles and some shrubs. All our plants are excellent value and grown hard here in Lincolnshire so they will establish quickly in your garden. We have plants for most situations… \nShare this:Tweet\n				Share on WhatsApp (Opens in new window)\n				WhatsApp\n			\n				Email a link to a friend (Opens in new window)\n				Email\n			\n				Print (Opens in new window)\n				Print
URL:https://sturtonplants.co.uk/event/market-rasen-tuesday-market-52/
LOCATION:Market Place (Market Rasen)\, Market Place\, Market Rasen\, Lincolnshire\, LN8 3HJ\, United Kingdom
CATEGORIES:Pop Up Plant Stall
END:VEVENT
BEGIN:VEVENT
DTSTART;TZID=Europe/London:20250428T090000
DTEND;TZID=Europe/London:20250428T140000
DTSTAMP:20260419T175431
CREATED:20250305T102150Z
LAST-MODIFIED:20250305T102150Z
UID:19279-1745830800-1745848800@sturtonplants.co.uk
SUMMARY:Spilsby Market
DESCRIPTION:This year you will find us at the statue end opposite the Sweet Vanilla Craft shop and The White Hart Hotel. We will have a wide range of plants ethically grown in Lincolnshire.  \nShare this:Tweet\n				Share on WhatsApp (Opens in new window)\n				WhatsApp\n			\n				Email a link to a friend (Opens in new window)\n				Email\n			\n				Print (Opens in new window)\n				Print
URL:https://sturtonplants.co.uk/event/spilsby-market-13/
LOCATION:Spilsby Market Place\, PE23 5JT
CATEGORIES:Craft & Farmers Markets,Pop Up Plant Stall
END:VEVENT
BEGIN:VEVENT
DTSTART;TZID=Europe/London:20250427T090000
DTEND;TZID=Europe/London:20250427T140000
DTSTAMP:20260419T175431
CREATED:20250120T154945Z
LAST-MODIFIED:20250120T154945Z
UID:18188-1745744400-1745762400@sturtonplants.co.uk
SUMMARY:Hykeham Village Pop Up Market
DESCRIPTION:Share this:Tweet\n				Share on WhatsApp (Opens in new window)\n				WhatsApp\n			\n				Email a link to a friend (Opens in new window)\n				Email\n			\n				Print (Opens in new window)\n				Print
URL:https://sturtonplants.co.uk/event/hykeham-village-pop-up-market-6/
LOCATION:Hykeham Village Green\, North Hykeham\, Lincolnshire\, LN6 8NH\, United Kingdom
CATEGORIES:Craft & Farmers Markets,Pop Up Plant Stall
END:VEVENT
BEGIN:VEVENT
DTSTART;TZID=Europe/London:20250426T090000
DTEND;TZID=Europe/London:20250426T120000
DTSTAMP:20260419T175431
CREATED:20250415T180509Z
LAST-MODIFIED:20250415T180509Z
UID:19898-1745658000-1745668800@sturtonplants.co.uk
SUMMARY:Burton Road Farmers Market
DESCRIPTION:Share this:Tweet\n				Share on WhatsApp (Opens in new window)\n				WhatsApp\n			\n				Email a link to a friend (Opens in new window)\n				Email\n			\n				Print (Opens in new window)\n				Print
URL:https://sturtonplants.co.uk/event/burton-road-farmers-market-14/
LOCATION:All Saints Church\, Burton Road\, Lincoln\, Lincolnshire\, LN1 3TX\, United Kingdom
CATEGORIES:Craft & Farmers Markets,Pop Up Plant Stall
END:VEVENT
BEGIN:VEVENT
DTSTART;TZID=Europe/London:20250425T100000
DTEND;TZID=Europe/London:20250425T140000
DTSTAMP:20260419T175431
CREATED:20250226T104631Z
LAST-MODIFIED:20250226T112534Z
UID:19138-1745575200-1745589600@sturtonplants.co.uk
SUMMARY:Wragby Market
DESCRIPTION:Share this:Tweet\n				Share on WhatsApp (Opens in new window)\n				WhatsApp\n			\n				Email a link to a friend (Opens in new window)\n				Email\n			\n				Print (Opens in new window)\n				Print
URL:https://sturtonplants.co.uk/event/wragby-market-4/
LOCATION:The Adam & Eve Pub\, Marketplace\, Wragby\, Lincolnshire\, LN8 5QU\, United Kingdom
CATEGORIES:Craft & Farmers Markets
END:VEVENT
BEGIN:VEVENT
DTSTART;TZID=Europe/London:20250422T090000
DTEND;TZID=Europe/London:20250422T140000
DTSTAMP:20260419T175431
CREATED:20250226T104105Z
LAST-MODIFIED:20250226T112632Z
UID:19107-1745312400-1745330400@sturtonplants.co.uk
SUMMARY:Market Rasen Tuesday Market
DESCRIPTION:We have a wide range of alpine plants\, herbaceous perennials\, herbs\, edibles and some shrubs. All our plants are excellent value and grown hard here in Lincolnshire so they will establish quickly in your garden. We have plants for most situations… \nShare this:Tweet\n				Share on WhatsApp (Opens in new window)\n				WhatsApp\n			\n				Email a link to a friend (Opens in new window)\n				Email\n			\n				Print (Opens in new window)\n				Print
URL:https://sturtonplants.co.uk/event/market-rasen-tuesday-market-51/
LOCATION:Market Place (Market Rasen)\, Market Place\, Market Rasen\, Lincolnshire\, LN8 3HJ\, United Kingdom
CATEGORIES:Pop Up Plant Stall
END:VEVENT
BEGIN:VEVENT
DTSTART;TZID=Europe/London:20250419T090000
DTEND;TZID=Europe/London:20250419T140000
DTSTAMP:20260419T175431
CREATED:20250415T175658Z
LAST-MODIFIED:20250415T175658Z
UID:19890-1745053200-1745071200@sturtonplants.co.uk
SUMMARY:Collingham Pop Up
DESCRIPTION:Share this:Tweet\n				Share on WhatsApp (Opens in new window)\n				WhatsApp\n			\n				Email a link to a friend (Opens in new window)\n				Email\n			\n				Print (Opens in new window)\n				Print
URL:https://sturtonplants.co.uk/event/collingham-pop-up-2/
LOCATION:The Hedgerows\, Outside Gusto House\, Collingham\, Nottinghamshire\, NG23 7DX
CATEGORIES:Craft & Farmers Markets,Pop Up Plant Stall
END:VEVENT
BEGIN:VEVENT
DTSTART;TZID=Europe/London:20250415T090000
DTEND;TZID=Europe/London:20250415T140000
DTSTAMP:20260419T175431
CREATED:20250226T104104Z
LAST-MODIFIED:20250226T112720Z
UID:19106-1744707600-1744725600@sturtonplants.co.uk
SUMMARY:Market Rasen Tuesday Market
DESCRIPTION:We have a wide range of alpine plants\, herbaceous perennials\, herbs\, edibles and some shrubs. All our plants are excellent value and grown hard here in Lincolnshire so they will establish quickly in your garden. We have plants for most situations… \nShare this:Tweet\n				Share on WhatsApp (Opens in new window)\n				WhatsApp\n			\n				Email a link to a friend (Opens in new window)\n				Email\n			\n				Print (Opens in new window)\n				Print
URL:https://sturtonplants.co.uk/event/market-rasen-tuesday-market-50/
LOCATION:Market Place (Market Rasen)\, Market Place\, Market Rasen\, Lincolnshire\, LN8 3HJ\, United Kingdom
CATEGORIES:Pop Up Plant Stall
END:VEVENT
BEGIN:VEVENT
DTSTART;TZID=Europe/London:20250414T090000
DTEND;TZID=Europe/London:20250414T140000
DTSTAMP:20260419T175431
CREATED:20250305T102149Z
LAST-MODIFIED:20250305T102149Z
UID:19278-1744621200-1744639200@sturtonplants.co.uk
SUMMARY:Spilsby Market
DESCRIPTION:This year you will find us at the statue end opposite the Sweet Vanilla Craft shop and The White Hart Hotel. We will have a wide range of plants ethically grown in Lincolnshire.  \nShare this:Tweet\n				Share on WhatsApp (Opens in new window)\n				WhatsApp\n			\n				Email a link to a friend (Opens in new window)\n				Email\n			\n				Print (Opens in new window)\n				Print
URL:https://sturtonplants.co.uk/event/spilsby-market-12/
LOCATION:Spilsby Market Place\, PE23 5JT
CATEGORIES:Craft & Farmers Markets,Pop Up Plant Stall
END:VEVENT
BEGIN:VEVENT
DTSTART;TZID=Europe/London:20250408T090000
DTEND;TZID=Europe/London:20250408T140000
DTSTAMP:20260419T175431
CREATED:20250226T104102Z
LAST-MODIFIED:20250226T112847Z
UID:19105-1744102800-1744120800@sturtonplants.co.uk
SUMMARY:Market Rasen Tuesday Market
DESCRIPTION:We have a wide range of alpine plants\, herbaceous perennials\, herbs\, edibles and some shrubs. All our plants are excellent value and grown hard here in Lincolnshire so they will establish quickly in your garden. We have plants for most situations… \nShare this:Tweet\n				Share on WhatsApp (Opens in new window)\n				WhatsApp\n			\n				Email a link to a friend (Opens in new window)\n				Email\n			\n				Print (Opens in new window)\n				Print
URL:https://sturtonplants.co.uk/event/market-rasen-tuesday-market-49/
LOCATION:Market Place (Market Rasen)\, Market Place\, Market Rasen\, Lincolnshire\, LN8 3HJ\, United Kingdom
CATEGORIES:Pop Up Plant Stall
END:VEVENT
BEGIN:VEVENT
DTSTART;TZID=Europe/London:20250407T090000
DTEND;TZID=Europe/London:20250407T140000
DTSTAMP:20260419T175431
CREATED:20250305T102148Z
LAST-MODIFIED:20250305T102148Z
UID:19277-1744016400-1744034400@sturtonplants.co.uk
SUMMARY:Spilsby Market
DESCRIPTION:This year you will find us at the statue end opposite the Sweet Vanilla Craft shop and The White Hart Hotel. We will have a wide range of plants ethically grown in Lincolnshire.  \nShare this:Tweet\n				Share on WhatsApp (Opens in new window)\n				WhatsApp\n			\n				Email a link to a friend (Opens in new window)\n				Email\n			\n				Print (Opens in new window)\n				Print
URL:https://sturtonplants.co.uk/event/spilsby-market-11/
LOCATION:Spilsby Market Place\, PE23 5JT
CATEGORIES:Craft & Farmers Markets,Pop Up Plant Stall
END:VEVENT
BEGIN:VEVENT
DTSTART;TZID=Europe/London:20250405T100000
DTEND;TZID=Europe/London:20250405T160000
DTSTAMP:20260419T175431
CREATED:20250219T101845Z
LAST-MODIFIED:20250219T104908Z
UID:18861-1743847200-1743868800@sturtonplants.co.uk
SUMMARY:Spilsby Saturday Market
DESCRIPTION:We have a wide range of alpine plants\, herbaceous perennials\, herbs\, edibles and some shrubs. All our plants are excellent value and grown hard here in Lincolnshire so they will establish quickly in your garden. We have plants for most situations… \nShare this:Tweet\n				Share on WhatsApp (Opens in new window)\n				WhatsApp\n			\n				Email a link to a friend (Opens in new window)\n				Email\n			\n				Print (Opens in new window)\n				Print
URL:https://sturtonplants.co.uk/event/spilsby-saturday-market-6/
LOCATION:Spilsby Market Place\, PE23 5JT
CATEGORIES:Craft & Farmers Markets
END:VEVENT
BEGIN:VEVENT
DTSTART;TZID=Europe/London:20250401T090000
DTEND;TZID=Europe/London:20250401T140000
DTSTAMP:20260419T175431
CREATED:20250226T104059Z
LAST-MODIFIED:20250226T112953Z
UID:19104-1743498000-1743516000@sturtonplants.co.uk
SUMMARY:Market Rasen Tuesday Market
DESCRIPTION:We have a wide range of alpine plants\, herbaceous perennials\, herbs\, edibles and some shrubs. All our plants are excellent value and grown hard here in Lincolnshire so they will establish quickly in your garden. We have plants for most situations… \nShare this:Tweet\n				Share on WhatsApp (Opens in new window)\n				WhatsApp\n			\n				Email a link to a friend (Opens in new window)\n				Email\n			\n				Print (Opens in new window)\n				Print
URL:https://sturtonplants.co.uk/event/market-rasen-tuesday-market-48/
LOCATION:Market Place (Market Rasen)\, Market Place\, Market Rasen\, Lincolnshire\, LN8 3HJ\, United Kingdom
CATEGORIES:Pop Up Plant Stall
END:VEVENT
BEGIN:VEVENT
DTSTART;TZID=Europe/London:20250331T090000
DTEND;TZID=Europe/London:20250331T140000
DTSTAMP:20260419T175431
CREATED:20250305T102146Z
LAST-MODIFIED:20250305T102146Z
UID:19276-1743411600-1743429600@sturtonplants.co.uk
SUMMARY:Spilsby Market
DESCRIPTION:This year you will find us at the statue end opposite the Sweet Vanilla Craft shop and The White Hart Hotel. We will have a wide range of plants ethically grown in Lincolnshire.  \nShare this:Tweet\n				Share on WhatsApp (Opens in new window)\n				WhatsApp\n			\n				Email a link to a friend (Opens in new window)\n				Email\n			\n				Print (Opens in new window)\n				Print
URL:https://sturtonplants.co.uk/event/spilsby-market-10/
LOCATION:Spilsby Market Place\, PE23 5JT
CATEGORIES:Craft & Farmers Markets,Pop Up Plant Stall
END:VEVENT
BEGIN:VEVENT
DTSTART;TZID=Europe/London:20250329T090000
DTEND;TZID=Europe/London:20250329T140000
DTSTAMP:20260419T175431
CREATED:20250305T103653Z
LAST-MODIFIED:20250305T103653Z
UID:19302-1743238800-1743256800@sturtonplants.co.uk
SUMMARY:Collingham Pop Up
DESCRIPTION:We’re back at the Hedgerows for this excellent small farmers market. Why not come along & browse the stalls and then take refreshment in the Cafe. \nWe will have a wide range of fully hardy plants for your garden and they are all locally grown. \nThe market has plenty of parking and is all on hard standing. \nShare this:Tweet\n				Share on WhatsApp (Opens in new window)\n				WhatsApp\n			\n				Email a link to a friend (Opens in new window)\n				Email\n			\n				Print (Opens in new window)\n				Print
URL:https://sturtonplants.co.uk/event/collingham-pop-up/
LOCATION:The Hedgerows\, Outside Gusto House\, Collingham\, Nottinghamshire\, NG23 7DX
CATEGORIES:Craft & Farmers Markets,Pop Up Plant Stall
END:VEVENT
BEGIN:VEVENT
DTSTART;TZID=Europe/London:20250325T090000
DTEND;TZID=Europe/London:20250325T140000
DTSTAMP:20260419T175431
CREATED:20250305T103142Z
LAST-MODIFIED:20250305T103142Z
UID:19300-1742893200-1742911200@sturtonplants.co.uk
SUMMARY:Market Rasen Tuesday Market
DESCRIPTION:Share this:Tweet\n				Share on WhatsApp (Opens in new window)\n				WhatsApp\n			\n				Email a link to a friend (Opens in new window)\n				Email\n			\n				Print (Opens in new window)\n				Print
URL:https://sturtonplants.co.uk/event/market-rasen-tuesday-market-76/
LOCATION:Market Place (Market Rasen)\, Market Place\, Market Rasen\, Lincolnshire\, LN8 3HJ\, United Kingdom
END:VEVENT
BEGIN:VEVENT
DTSTART;TZID=Europe/London:20250324T090000
DTEND;TZID=Europe/London:20250324T140000
DTSTAMP:20260419T175431
CREATED:20250305T100449Z
LAST-MODIFIED:20250305T102144Z
UID:19259-1742806800-1742824800@sturtonplants.co.uk
SUMMARY:Spilsby Market
DESCRIPTION:This year you will find us at the statue end opposite the Sweet Vanilla Craft shop and The White Hart Hotel. We will have a wide range of plants ethically grown in Lincolnshire.  \nShare this:Tweet\n				Share on WhatsApp (Opens in new window)\n				WhatsApp\n			\n				Email a link to a friend (Opens in new window)\n				Email\n			\n				Print (Opens in new window)\n				Print
URL:https://sturtonplants.co.uk/event/spilsby-market-9/
LOCATION:Spilsby Market Place\, PE23 5JT
CATEGORIES:Craft & Farmers Markets,Pop Up Plant Stall
END:VEVENT
END:VCALENDAR