BEGIN:VCALENDAR
VERSION:2.0
PRODID:-//Sturton Plants - ECPv6.15.20//NONSGML v1.0//EN
CALSCALE:GREGORIAN
METHOD:PUBLISH
X-WR-CALNAME:Sturton Plants
X-ORIGINAL-URL:https://sturtonplants.co.uk
X-WR-CALDESC:Events for Sturton Plants
REFRESH-INTERVAL;VALUE=DURATION:PT1H
X-Robots-Tag:noindex
X-PUBLISHED-TTL:PT1H
BEGIN:VTIMEZONE
TZID:Europe/London
BEGIN:DAYLIGHT
TZOFFSETFROM:+0000
TZOFFSETTO:+0100
TZNAME:BST
DTSTART:20230326T010000
END:DAYLIGHT
BEGIN:STANDARD
TZOFFSETFROM:+0100
TZOFFSETTO:+0000
TZNAME:GMT
DTSTART:20231029T010000
END:STANDARD
BEGIN:DAYLIGHT
TZOFFSETFROM:+0000
TZOFFSETTO:+0100
TZNAME:BST
DTSTART:20240331T010000
END:DAYLIGHT
BEGIN:STANDARD
TZOFFSETFROM:+0100
TZOFFSETTO:+0000
TZNAME:GMT
DTSTART:20241027T010000
END:STANDARD
BEGIN:DAYLIGHT
TZOFFSETFROM:+0000
TZOFFSETTO:+0100
TZNAME:BST
DTSTART:20250330T010000
END:DAYLIGHT
BEGIN:STANDARD
TZOFFSETFROM:+0100
TZOFFSETTO:+0000
TZNAME:GMT
DTSTART:20251026T010000
END:STANDARD
BEGIN:DAYLIGHT
TZOFFSETFROM:+0000
TZOFFSETTO:+0100
TZNAME:BST
DTSTART:20260329T010000
END:DAYLIGHT
BEGIN:STANDARD
TZOFFSETFROM:+0100
TZOFFSETTO:+0000
TZNAME:GMT
DTSTART:20261025T010000
END:STANDARD
END:VTIMEZONE
BEGIN:VEVENT
DTSTART;TZID=Europe/London:20250422T090000
DTEND;TZID=Europe/London:20250422T140000
DTSTAMP:20260419T173246
CREATED:20250226T104105Z
LAST-MODIFIED:20250226T112632Z
UID:19107-1745312400-1745330400@sturtonplants.co.uk
SUMMARY:Market Rasen Tuesday Market
DESCRIPTION:We have a wide range of alpine plants\, herbaceous perennials\, herbs\, edibles and some shrubs. All our plants are excellent value and grown hard here in Lincolnshire so they will establish quickly in your garden. We have plants for most situations… \nShare this:Tweet\n				Share on WhatsApp (Opens in new window)\n				WhatsApp\n			\n				Email a link to a friend (Opens in new window)\n				Email\n			\n				Print (Opens in new window)\n				Print
URL:https://sturtonplants.co.uk/event/market-rasen-tuesday-market-51/
LOCATION:Market Place (Market Rasen)\, Market Place\, Market Rasen\, Lincolnshire\, LN8 3HJ\, United Kingdom
CATEGORIES:Pop Up Plant Stall
END:VEVENT
BEGIN:VEVENT
DTSTART;TZID=Europe/London:20250419T090000
DTEND;TZID=Europe/London:20250419T140000
DTSTAMP:20260419T173246
CREATED:20250415T175658Z
LAST-MODIFIED:20250415T175658Z
UID:19890-1745053200-1745071200@sturtonplants.co.uk
SUMMARY:Collingham Pop Up
DESCRIPTION:Share this:Tweet\n				Share on WhatsApp (Opens in new window)\n				WhatsApp\n			\n				Email a link to a friend (Opens in new window)\n				Email\n			\n				Print (Opens in new window)\n				Print
URL:https://sturtonplants.co.uk/event/collingham-pop-up-2/
LOCATION:The Hedgerows\, Outside Gusto House\, Collingham\, Nottinghamshire\, NG23 7DX
CATEGORIES:Craft & Farmers Markets,Pop Up Plant Stall
END:VEVENT
BEGIN:VEVENT
DTSTART;TZID=Europe/London:20250415T090000
DTEND;TZID=Europe/London:20250415T140000
DTSTAMP:20260419T173246
CREATED:20250226T104104Z
LAST-MODIFIED:20250226T112720Z
UID:19106-1744707600-1744725600@sturtonplants.co.uk
SUMMARY:Market Rasen Tuesday Market
DESCRIPTION:We have a wide range of alpine plants\, herbaceous perennials\, herbs\, edibles and some shrubs. All our plants are excellent value and grown hard here in Lincolnshire so they will establish quickly in your garden. We have plants for most situations… \nShare this:Tweet\n				Share on WhatsApp (Opens in new window)\n				WhatsApp\n			\n				Email a link to a friend (Opens in new window)\n				Email\n			\n				Print (Opens in new window)\n				Print
URL:https://sturtonplants.co.uk/event/market-rasen-tuesday-market-50/
LOCATION:Market Place (Market Rasen)\, Market Place\, Market Rasen\, Lincolnshire\, LN8 3HJ\, United Kingdom
CATEGORIES:Pop Up Plant Stall
END:VEVENT
BEGIN:VEVENT
DTSTART;TZID=Europe/London:20250414T090000
DTEND;TZID=Europe/London:20250414T140000
DTSTAMP:20260419T173246
CREATED:20250305T102149Z
LAST-MODIFIED:20250305T102149Z
UID:19278-1744621200-1744639200@sturtonplants.co.uk
SUMMARY:Spilsby Market
DESCRIPTION:This year you will find us at the statue end opposite the Sweet Vanilla Craft shop and The White Hart Hotel. We will have a wide range of plants ethically grown in Lincolnshire.  \nShare this:Tweet\n				Share on WhatsApp (Opens in new window)\n				WhatsApp\n			\n				Email a link to a friend (Opens in new window)\n				Email\n			\n				Print (Opens in new window)\n				Print
URL:https://sturtonplants.co.uk/event/spilsby-market-12/
LOCATION:Spilsby Market Place\, PE23 5JT
CATEGORIES:Craft & Farmers Markets,Pop Up Plant Stall
END:VEVENT
BEGIN:VEVENT
DTSTART;TZID=Europe/London:20250408T090000
DTEND;TZID=Europe/London:20250408T140000
DTSTAMP:20260419T173246
CREATED:20250226T104102Z
LAST-MODIFIED:20250226T112847Z
UID:19105-1744102800-1744120800@sturtonplants.co.uk
SUMMARY:Market Rasen Tuesday Market
DESCRIPTION:We have a wide range of alpine plants\, herbaceous perennials\, herbs\, edibles and some shrubs. All our plants are excellent value and grown hard here in Lincolnshire so they will establish quickly in your garden. We have plants for most situations… \nShare this:Tweet\n				Share on WhatsApp (Opens in new window)\n				WhatsApp\n			\n				Email a link to a friend (Opens in new window)\n				Email\n			\n				Print (Opens in new window)\n				Print
URL:https://sturtonplants.co.uk/event/market-rasen-tuesday-market-49/
LOCATION:Market Place (Market Rasen)\, Market Place\, Market Rasen\, Lincolnshire\, LN8 3HJ\, United Kingdom
CATEGORIES:Pop Up Plant Stall
END:VEVENT
BEGIN:VEVENT
DTSTART;TZID=Europe/London:20250407T090000
DTEND;TZID=Europe/London:20250407T140000
DTSTAMP:20260419T173246
CREATED:20250305T102148Z
LAST-MODIFIED:20250305T102148Z
UID:19277-1744016400-1744034400@sturtonplants.co.uk
SUMMARY:Spilsby Market
DESCRIPTION:This year you will find us at the statue end opposite the Sweet Vanilla Craft shop and The White Hart Hotel. We will have a wide range of plants ethically grown in Lincolnshire.  \nShare this:Tweet\n				Share on WhatsApp (Opens in new window)\n				WhatsApp\n			\n				Email a link to a friend (Opens in new window)\n				Email\n			\n				Print (Opens in new window)\n				Print
URL:https://sturtonplants.co.uk/event/spilsby-market-11/
LOCATION:Spilsby Market Place\, PE23 5JT
CATEGORIES:Craft & Farmers Markets,Pop Up Plant Stall
END:VEVENT
BEGIN:VEVENT
DTSTART;TZID=Europe/London:20250405T100000
DTEND;TZID=Europe/London:20250405T160000
DTSTAMP:20260419T173246
CREATED:20250219T101845Z
LAST-MODIFIED:20250219T104908Z
UID:18861-1743847200-1743868800@sturtonplants.co.uk
SUMMARY:Spilsby Saturday Market
DESCRIPTION:We have a wide range of alpine plants\, herbaceous perennials\, herbs\, edibles and some shrubs. All our plants are excellent value and grown hard here in Lincolnshire so they will establish quickly in your garden. We have plants for most situations… \nShare this:Tweet\n				Share on WhatsApp (Opens in new window)\n				WhatsApp\n			\n				Email a link to a friend (Opens in new window)\n				Email\n			\n				Print (Opens in new window)\n				Print
URL:https://sturtonplants.co.uk/event/spilsby-saturday-market-6/
LOCATION:Spilsby Market Place\, PE23 5JT
CATEGORIES:Craft & Farmers Markets
END:VEVENT
BEGIN:VEVENT
DTSTART;TZID=Europe/London:20250401T090000
DTEND;TZID=Europe/London:20250401T140000
DTSTAMP:20260419T173246
CREATED:20250226T104059Z
LAST-MODIFIED:20250226T112953Z
UID:19104-1743498000-1743516000@sturtonplants.co.uk
SUMMARY:Market Rasen Tuesday Market
DESCRIPTION:We have a wide range of alpine plants\, herbaceous perennials\, herbs\, edibles and some shrubs. All our plants are excellent value and grown hard here in Lincolnshire so they will establish quickly in your garden. We have plants for most situations… \nShare this:Tweet\n				Share on WhatsApp (Opens in new window)\n				WhatsApp\n			\n				Email a link to a friend (Opens in new window)\n				Email\n			\n				Print (Opens in new window)\n				Print
URL:https://sturtonplants.co.uk/event/market-rasen-tuesday-market-48/
LOCATION:Market Place (Market Rasen)\, Market Place\, Market Rasen\, Lincolnshire\, LN8 3HJ\, United Kingdom
CATEGORIES:Pop Up Plant Stall
END:VEVENT
BEGIN:VEVENT
DTSTART;TZID=Europe/London:20250331T090000
DTEND;TZID=Europe/London:20250331T140000
DTSTAMP:20260419T173246
CREATED:20250305T102146Z
LAST-MODIFIED:20250305T102146Z
UID:19276-1743411600-1743429600@sturtonplants.co.uk
SUMMARY:Spilsby Market
DESCRIPTION:This year you will find us at the statue end opposite the Sweet Vanilla Craft shop and The White Hart Hotel. We will have a wide range of plants ethically grown in Lincolnshire.  \nShare this:Tweet\n				Share on WhatsApp (Opens in new window)\n				WhatsApp\n			\n				Email a link to a friend (Opens in new window)\n				Email\n			\n				Print (Opens in new window)\n				Print
URL:https://sturtonplants.co.uk/event/spilsby-market-10/
LOCATION:Spilsby Market Place\, PE23 5JT
CATEGORIES:Craft & Farmers Markets,Pop Up Plant Stall
END:VEVENT
BEGIN:VEVENT
DTSTART;TZID=Europe/London:20250329T090000
DTEND;TZID=Europe/London:20250329T140000
DTSTAMP:20260419T173246
CREATED:20250305T103653Z
LAST-MODIFIED:20250305T103653Z
UID:19302-1743238800-1743256800@sturtonplants.co.uk
SUMMARY:Collingham Pop Up
DESCRIPTION:We’re back at the Hedgerows for this excellent small farmers market. Why not come along & browse the stalls and then take refreshment in the Cafe. \nWe will have a wide range of fully hardy plants for your garden and they are all locally grown. \nThe market has plenty of parking and is all on hard standing. \nShare this:Tweet\n				Share on WhatsApp (Opens in new window)\n				WhatsApp\n			\n				Email a link to a friend (Opens in new window)\n				Email\n			\n				Print (Opens in new window)\n				Print
URL:https://sturtonplants.co.uk/event/collingham-pop-up/
LOCATION:The Hedgerows\, Outside Gusto House\, Collingham\, Nottinghamshire\, NG23 7DX
CATEGORIES:Craft & Farmers Markets,Pop Up Plant Stall
END:VEVENT
BEGIN:VEVENT
DTSTART;TZID=Europe/London:20250325T090000
DTEND;TZID=Europe/London:20250325T140000
DTSTAMP:20260419T173246
CREATED:20250305T103142Z
LAST-MODIFIED:20250305T103142Z
UID:19300-1742893200-1742911200@sturtonplants.co.uk
SUMMARY:Market Rasen Tuesday Market
DESCRIPTION:Share this:Tweet\n				Share on WhatsApp (Opens in new window)\n				WhatsApp\n			\n				Email a link to a friend (Opens in new window)\n				Email\n			\n				Print (Opens in new window)\n				Print
URL:https://sturtonplants.co.uk/event/market-rasen-tuesday-market-76/
LOCATION:Market Place (Market Rasen)\, Market Place\, Market Rasen\, Lincolnshire\, LN8 3HJ\, United Kingdom
END:VEVENT
BEGIN:VEVENT
DTSTART;TZID=Europe/London:20250324T090000
DTEND;TZID=Europe/London:20250324T140000
DTSTAMP:20260419T173246
CREATED:20250305T100449Z
LAST-MODIFIED:20250305T102144Z
UID:19259-1742806800-1742824800@sturtonplants.co.uk
SUMMARY:Spilsby Market
DESCRIPTION:This year you will find us at the statue end opposite the Sweet Vanilla Craft shop and The White Hart Hotel. We will have a wide range of plants ethically grown in Lincolnshire.  \nShare this:Tweet\n				Share on WhatsApp (Opens in new window)\n				WhatsApp\n			\n				Email a link to a friend (Opens in new window)\n				Email\n			\n				Print (Opens in new window)\n				Print
URL:https://sturtonplants.co.uk/event/spilsby-market-9/
LOCATION:Spilsby Market Place\, PE23 5JT
CATEGORIES:Craft & Farmers Markets,Pop Up Plant Stall
END:VEVENT
BEGIN:VEVENT
DTSTART;TZID=Europe/London:20250322T090000
DTEND;TZID=Europe/London:20250322T120000
DTSTAMP:20260419T173246
CREATED:20250316T175710Z
LAST-MODIFIED:20250316T175710Z
UID:19691-1742634000-1742644800@sturtonplants.co.uk
SUMMARY:Burton Road Pop Up Plant Stall
DESCRIPTION:We are happy to be back in the church car park every 4th Saturday of the month until the autumn. \nWe stock a wide range of Lincolnshire grown hardy garden plants including herbs\, alpines\, edibles and herbaceous perennials. We also have Bedding plants and spring flowering bulbs to plant when seasonally appropriate. All our plants are grown ‘hard’ locally and are fully established in their pots and ready for planting out or potting on. This means they are raring to go and will thrive when planted in your garden without suffering from shock (just remember to keep them watered for the first few weeks). \nShopping locally grown plants is great for the planet (low carbon footprint)\, great for the local economy (we try to support local businesses wherever possible)\, great for your garden – we have different plants to most of the garden centre chains and great for your pocket – most of our herbaceous perennials are still only £4 each or 3 for £10! \nShare this:Tweet\n				Share on WhatsApp (Opens in new window)\n				WhatsApp\n			\n				Email a link to a friend (Opens in new window)\n				Email\n			\n				Print (Opens in new window)\n				Print
URL:https://sturtonplants.co.uk/event/burton-road-pop-up-plant-stall/
LOCATION:All Saints Church\, Burton Road\, Lincoln\, Lincolnshire\, LN1 3TX\, United Kingdom
CATEGORIES:Pop Up Plant Stall
ATTACH;FMTTYPE=image/jpeg:https://sturtonplants.co.uk/wp-content/uploads/2024/08/Spilsby.jpg
END:VEVENT
BEGIN:VEVENT
DTSTART;TZID=Europe/London:20241026T090000
DTEND;TZID=Europe/London:20241026T120000
DTSTAMP:20260419T173246
CREATED:20231127T114222Z
LAST-MODIFIED:20240328T092509Z
UID:8405-1729933200-1729944000@sturtonplants.co.uk
SUMMARY:Burton Road Farmers Market
DESCRIPTION:Share this:Tweet\n				Share on WhatsApp (Opens in new window)\n				WhatsApp\n			\n				Email a link to a friend (Opens in new window)\n				Email\n			\n				Print (Opens in new window)\n				Print
URL:https://sturtonplants.co.uk/event/burton-road-farmers-market-10/
LOCATION:All Saints Church\, Burton Road\, Lincoln\, Lincolnshire\, LN1 3TX\, United Kingdom
CATEGORIES:Craft & Farmers Markets
END:VEVENT
BEGIN:VEVENT
DTSTART;TZID=Europe/London:20241025T100000
DTEND;TZID=Europe/London:20241025T140000
DTSTAMP:20260419T173246
CREATED:20231127T112117Z
LAST-MODIFIED:20240920T074421Z
UID:8385-1729850400-1729864800@sturtonplants.co.uk
SUMMARY:Wragby Market
DESCRIPTION:Share this:Tweet\n				Share on WhatsApp (Opens in new window)\n				WhatsApp\n			\n				Email a link to a friend (Opens in new window)\n				Email\n			\n				Print (Opens in new window)\n				Print
URL:https://sturtonplants.co.uk/event/wragby-market-5/
LOCATION:The Adam & Eve Pub\, Marketplace\, Wragby\, Lincolnshire\, LN8 5QU\, United Kingdom
CATEGORIES:Craft & Farmers Markets
END:VEVENT
BEGIN:VEVENT
DTSTART;TZID=Europe/London:20241012T090000
DTEND;TZID=Europe/London:20241012T120000
DTSTAMP:20260419T173246
CREATED:20241004T072717Z
LAST-MODIFIED:20241004T072717Z
UID:16568-1728723600-1728734400@sturtonplants.co.uk
SUMMARY:Burton Road Farmers Market
DESCRIPTION:Share this:Tweet\n				Share on WhatsApp (Opens in new window)\n				WhatsApp\n			\n				Email a link to a friend (Opens in new window)\n				Email\n			\n				Print (Opens in new window)\n				Print
URL:https://sturtonplants.co.uk/event/burton-road-farmers-market-13/
LOCATION:All Saints Church\, Burton Road\, Lincoln\, Lincolnshire\, LN1 3TX\, United Kingdom
CATEGORIES:Pop Up Plant Stall
END:VEVENT
BEGIN:VEVENT
DTSTART;TZID=Europe/London:20241005T133000
DTEND;TZID=Europe/London:20241005T163000
DTSTAMP:20260419T173246
CREATED:20240822T090738Z
LAST-MODIFIED:20240822T090926Z
UID:15828-1728135000-1728145800@sturtonplants.co.uk
SUMMARY:Sturton By Stow Agricultural Show
DESCRIPTION:We are delighted to be back at our local village show this year. \nWe will be bringing our range of hardy garden plants\, many grown here in Sturton By Stow\, all grown within Lincolnshire! \nShare this:Tweet\n				Share on WhatsApp (Opens in new window)\n				WhatsApp\n			\n				Email a link to a friend (Opens in new window)\n				Email\n			\n				Print (Opens in new window)\n				Print
URL:https://sturtonplants.co.uk/event/sturton-by-stow-agricultural-show/
LOCATION:Sturton By Stow Primary School\, School Lane\, Sturton By Stow\, Lincolnshire\, LN1 2BY
CATEGORIES:Country Show,Fun Days,Pop Up Plant Stall,Village Fete/Fayre
ATTACH;FMTTYPE=image/jpeg:https://sturtonplants.co.uk/wp-content/uploads/2024/08/Sturton-By-Stow-Agricultural-hort.jpg
END:VEVENT
BEGIN:VEVENT
DTSTART;TZID=Europe/London:20240930T090000
DTEND;TZID=Europe/London:20240930T140000
DTSTAMP:20260419T173246
CREATED:20240821T131623Z
LAST-MODIFIED:20240821T131623Z
UID:15819-1727686800-1727704800@sturtonplants.co.uk
SUMMARY:Spilsby Market
DESCRIPTION:We will be in the Market Place Car Park in Spilsby\, Lincolnshire\, PE23 5JT\, every Monday (excluding bank holidays) until at least the end of September. The market has been established since 1302. \nWe will be bringing our range of Lincolnshire grown hardy garden plants. You can choose from alpines\, herbs and herbaceous perennials with prices starting from £2.50 and we now have a great selection of top quality Spring flowering bulbs ay only £5.99/pack. \nWe have strawberry mint which adds an excellent flavour to summer drinks etc\, spearmint which makes a wonderful herbal tea as well as being excellent on new potatoes and mint sauce\, ginger rosemary is an excellent pairing of the two distinctive flavours. We also have lots of stunning plants for colour in your garden including many you don’t see very often. \nShare this:Tweet\n				Share on WhatsApp (Opens in new window)\n				WhatsApp\n			\n				Email a link to a friend (Opens in new window)\n				Email\n			\n				Print (Opens in new window)\n				Print
URL:https://sturtonplants.co.uk/event/spilsby-market-8/
LOCATION:Spilsby Market Place\, PE23 5JT
CATEGORIES:Pop Up Plant Stall
ATTACH;FMTTYPE=image/jpeg:https://sturtonplants.co.uk/wp-content/uploads/2024/08/Spilsby.jpg
END:VEVENT
BEGIN:VEVENT
DTSTART;TZID=Europe/London:20240929T090000
DTEND;TZID=Europe/London:20240929T140000
DTSTAMP:20260419T173246
CREATED:20240807T113413Z
LAST-MODIFIED:20240807T113413Z
UID:15695-1727600400-1727618400@sturtonplants.co.uk
SUMMARY:Hykeham Village Pop Up Market
DESCRIPTION:Share this:Tweet\n				Share on WhatsApp (Opens in new window)\n				WhatsApp\n			\n				Email a link to a friend (Opens in new window)\n				Email\n			\n				Print (Opens in new window)\n				Print
URL:https://sturtonplants.co.uk/event/hykeham-village-pop-up-market-5/
LOCATION:Hykeham Village Green\, North Hykeham\, Lincolnshire\, LN6 8NH\, United Kingdom
END:VEVENT
BEGIN:VEVENT
DTSTART;TZID=Europe/London:20240928T090000
DTEND;TZID=Europe/London:20240928T120000
DTSTAMP:20260419T173246
CREATED:20231127T114122Z
LAST-MODIFIED:20231127T114122Z
UID:8403-1727514000-1727524800@sturtonplants.co.uk
SUMMARY:Burton Road Farmers Market
DESCRIPTION:Share this:Tweet\n				Share on WhatsApp (Opens in new window)\n				WhatsApp\n			\n				Email a link to a friend (Opens in new window)\n				Email\n			\n				Print (Opens in new window)\n				Print
URL:https://sturtonplants.co.uk/event/burton-road-farmers-market-9/
LOCATION:All Saints Church\, Burton Road\, Lincoln\, Lincolnshire\, LN1 3TX\, United Kingdom
CATEGORIES:Craft & Farmers Markets
END:VEVENT
BEGIN:VEVENT
DTSTART;TZID=Europe/London:20240927T100000
DTEND;TZID=Europe/London:20240927T150000
DTSTAMP:20260419T173246
CREATED:20240829T181133Z
LAST-MODIFIED:20240829T181259Z
UID:15843-1727431200-1727449200@sturtonplants.co.uk
SUMMARY:Macmillan Coffee Morning
DESCRIPTION:On Friday 27/9/2024 we will be supporting the Macmillan Cancer Support Coffee Morning at The Cross Keys Stow. Come and browse the excellent stalls and enjoy some delicious food & drink whilst raising money for such a good cause. \nShare this:Tweet\n				Share on WhatsApp (Opens in new window)\n				WhatsApp\n			\n				Email a link to a friend (Opens in new window)\n				Email\n			\n				Print (Opens in new window)\n				Print
URL:https://sturtonplants.co.uk/event/macmillan-coffee-morning/
LOCATION:Cross Keys\, 4 Stow Park Road\, Stow\, Lincolnshire\, LN1 2DD\, United Kingdom
CATEGORIES:Craft & Farmers Markets,Pop Up Plant Stall
ATTACH;FMTTYPE=image/jpeg:https://sturtonplants.co.uk/wp-content/uploads/2024/08/IMG_0789.jpg
END:VEVENT
BEGIN:VEVENT
DTSTART;TZID=Europe/London:20240924T090000
DTEND;TZID=Europe/London:20240924T140000
DTSTAMP:20260419T173246
CREATED:20240920T074805Z
LAST-MODIFIED:20240920T074805Z
UID:16091-1727168400-1727186400@sturtonplants.co.uk
SUMMARY:Market Rasen Tuesday Market
DESCRIPTION:Well\, it’s finally here folks\, our last market in Market Rasen this year. \nWe will be in the Market Place as usual from 9:00-14:00 with our range of hardy plants which are all grown in Lincolnshire… \nShare this:Tweet\n				Share on WhatsApp (Opens in new window)\n				WhatsApp\n			\n				Email a link to a friend (Opens in new window)\n				Email\n			\n				Print (Opens in new window)\n				Print
URL:https://sturtonplants.co.uk/event/market-rasen-tuesday-market-47/
LOCATION:Market Place (Market Rasen)\, Market Place\, Market Rasen\, Lincolnshire\, LN8 3HJ\, United Kingdom
CATEGORIES:Pop Up Plant Stall
END:VEVENT
BEGIN:VEVENT
DTSTART;TZID=Europe/London:20240923T083000
DTEND;TZID=Europe/London:20240923T140000
DTSTAMP:20260419T173246
CREATED:20240821T131447Z
LAST-MODIFIED:20240920T080249Z
UID:15817-1727080200-1727100000@sturtonplants.co.uk
SUMMARY:Spilsby Market
DESCRIPTION:We will be in the Market Place Car Park in Spilsby\, Lincolnshire\, PE23 5JT\, every Monday (excluding bank holidays) until at least the end of September. The market has been established since 1302. \nWe will be bringing our range of Lincolnshire grown hardy garden plants. You can choose from alpines\, herbs and herbaceous perennials with prices starting from £2.50 and we now have a great selection of top quality Spring flowering bulbs ay only £5.99/pack. \nWe have strawberry mint which adds an excellent flavour to summer drinks etc\, spearmint which makes a wonderful herbal tea as well as being excellent on new potatoes and mint sauce\, ginger rosemary is an excellent pairing of the two distinctive flavours. We also have lots of stunning plants for colour in your garden including many you don’t see very often. \nShare this:Tweet\n				Share on WhatsApp (Opens in new window)\n				WhatsApp\n			\n				Email a link to a friend (Opens in new window)\n				Email\n			\n				Print (Opens in new window)\n				Print
URL:https://sturtonplants.co.uk/event/spilsby-market-7/
LOCATION:Spilsby Market Place\, PE23 5JT
CATEGORIES:Pop Up Plant Stall
ATTACH;FMTTYPE=image/jpeg:https://sturtonplants.co.uk/wp-content/uploads/2024/08/Spilsby.jpg
END:VEVENT
BEGIN:VEVENT
DTSTART;TZID=Europe/London:20240922T090000
DTEND;TZID=Europe/London:20240922T120000
DTSTAMP:20260419T173246
CREATED:20240803T172549Z
LAST-MODIFIED:20240822T184049Z
UID:15661-1726995600-1727006400@sturtonplants.co.uk
SUMMARY:Collingham Pop Up
DESCRIPTION:We’re back at the Hedgerows for this excellent small farmers market. Why not come along for your hardy garden plants\, spring flowering bulbs and Fruit & Veg from Nathan Willows Fresh Produce. Were here on a Sunday this week to prevent clashing with the Collingham Show. \nThe market has plenty of parking and is all on hard standing. \nShare this:Tweet\n				Share on WhatsApp (Opens in new window)\n				WhatsApp\n			\n				Email a link to a friend (Opens in new window)\n				Email\n			\n				Print (Opens in new window)\n				Print
URL:https://sturtonplants.co.uk/event/hedgerows-farmers-market-collingham-6/
LOCATION:The Hedgerows\, Outside Gusto House\, Collingham\, Nottinghamshire\, NG23 7DX
END:VEVENT
BEGIN:VEVENT
DTSTART;TZID=Europe/London:20240921T100000
DTEND;TZID=Europe/London:20240921T130000
DTSTAMP:20260419T173246
CREATED:20240307T123932Z
LAST-MODIFIED:20240307T123932Z
UID:10942-1726912800-1726923600@sturtonplants.co.uk
SUMMARY:Fiskerton Market
DESCRIPTION:Share this:Tweet\n				Share on WhatsApp (Opens in new window)\n				WhatsApp\n			\n				Email a link to a friend (Opens in new window)\n				Email\n			\n				Print (Opens in new window)\n				Print
URL:https://sturtonplants.co.uk/event/fiskerton-market-7/
LOCATION:Fiskerton Village Hall\, Ferry Rd\, Fiskerton\, Lincolnshire\, LN3 4HW\, United Kingdom
CATEGORIES:Craft & Farmers Markets
END:VEVENT
BEGIN:VEVENT
DTSTART;TZID=Europe/London:20240917T090000
DTEND;TZID=Europe/London:20240917T140000
DTSTAMP:20260419T173246
CREATED:20240708T144403Z
LAST-MODIFIED:20240708T144403Z
UID:15008-1726563600-1726581600@sturtonplants.co.uk
SUMMARY:Market Rasen Tuesday Market
DESCRIPTION:Share this:Tweet\n				Share on WhatsApp (Opens in new window)\n				WhatsApp\n			\n				Email a link to a friend (Opens in new window)\n				Email\n			\n				Print (Opens in new window)\n				Print
URL:https://sturtonplants.co.uk/event/market-rasen-tuesday-market-46/
LOCATION:Market Place (Market Rasen)\, Market Place\, Market Rasen\, Lincolnshire\, LN8 3HJ\, United Kingdom
CATEGORIES:Pop Up Plant Stall
END:VEVENT
BEGIN:VEVENT
DTSTART;TZID=Europe/London:20240916T090000
DTEND;TZID=Europe/London:20240916T140000
DTSTAMP:20260419T173246
CREATED:20240821T131326Z
LAST-MODIFIED:20240821T131326Z
UID:15815-1726477200-1726495200@sturtonplants.co.uk
SUMMARY:Spilsby Market
DESCRIPTION:We will be in the Market Place Car Park in Spilsby\, Lincolnshire\, PE23 5JT\, every Monday (excluding bank holidays) until at least the end of September. The market has been established since 1302. \nWe will be bringing our range of Lincolnshire grown hardy garden plants. You can choose from alpines\, herbs and herbaceous perennials with prices starting from £2.50 and we now have a great selection of top quality Spring flowering bulbs ay only £5.99/pack. \nWe have strawberry mint which adds an excellent flavour to summer drinks etc\, spearmint which makes a wonderful herbal tea as well as being excellent on new potatoes and mint sauce\, ginger rosemary is an excellent pairing of the two distinctive flavours. We also have lots of stunning plants for colour in your garden including many you don’t see very often. \nShare this:Tweet\n				Share on WhatsApp (Opens in new window)\n				WhatsApp\n			\n				Email a link to a friend (Opens in new window)\n				Email\n			\n				Print (Opens in new window)\n				Print
URL:https://sturtonplants.co.uk/event/spilsby-market-6/
LOCATION:Spilsby Market Place\, PE23 5JT
CATEGORIES:Pop Up Plant Stall
END:VEVENT
BEGIN:VEVENT
DTSTART;TZID=Europe/London:20240914T090000
DTEND;TZID=Europe/London:20240914T120000
DTSTAMP:20260419T173246
CREATED:20240829T181619Z
LAST-MODIFIED:20240829T181619Z
UID:15846-1726304400-1726315200@sturtonplants.co.uk
SUMMARY:Burton Road Farmers Market
DESCRIPTION:We’re now attending the Burton Road Farmers Market on the 2nd & 4th Saturdays. \nAlso with us today are Bread & Cheese & Horncastle Fruit & Veg \nShare this:Tweet\n				Share on WhatsApp (Opens in new window)\n				WhatsApp\n			\n				Email a link to a friend (Opens in new window)\n				Email\n			\n				Print (Opens in new window)\n				Print
URL:https://sturtonplants.co.uk/event/burton-road-farmers-market-12/
LOCATION:All Saints Church\, Burton Road\, Lincoln\, Lincolnshire\, LN1 3TX\, United Kingdom
CATEGORIES:Craft & Farmers Markets,Pop Up Plant Stall
END:VEVENT
BEGIN:VEVENT
DTSTART;TZID=Europe/London:20240914T090000
DTEND;TZID=Europe/London:20240914T120000
DTSTAMP:20260419T173246
CREATED:20240307T115749Z
LAST-MODIFIED:20240307T115749Z
UID:10901-1726304400-1726315200@sturtonplants.co.uk
SUMMARY:Saxilby Farmers and Craft Market
DESCRIPTION:Share this:Tweet\n				Share on WhatsApp (Opens in new window)\n				WhatsApp\n			\n				Email a link to a friend (Opens in new window)\n				Email\n			\n				Print (Opens in new window)\n				Print
URL:https://sturtonplants.co.uk/event/saxilby-farmers-and-craft-market-6/
LOCATION:The Anglers Pub\, 65 High Street\, Saxilby\, LN1 2HA\, United Kingdom
CATEGORIES:Craft & Farmers Markets
END:VEVENT
BEGIN:VEVENT
DTSTART;TZID=Europe/London:20240912T090000
DTEND;TZID=Europe/London:20240912T120000
DTSTAMP:20260419T173246
CREATED:20240307T120457Z
LAST-MODIFIED:20240307T120457Z
UID:10918-1726131600-1726142400@sturtonplants.co.uk
SUMMARY:Welton Farmers and Craft Market
DESCRIPTION:Share this:Tweet\n				Share on WhatsApp (Opens in new window)\n				WhatsApp\n			\n				Email a link to a friend (Opens in new window)\n				Email\n			\n				Print (Opens in new window)\n				Print
URL:https://sturtonplants.co.uk/event/welton-farmers-and-craft-market-6/
CATEGORIES:Craft & Farmers Markets
END:VEVENT
END:VCALENDAR