BEGIN:VCALENDAR
VERSION:2.0
PRODID:-//Sturton Plants - ECPv6.15.20//NONSGML v1.0//EN
CALSCALE:GREGORIAN
METHOD:PUBLISH
X-WR-CALNAME:Sturton Plants
X-ORIGINAL-URL:https://sturtonplants.co.uk
X-WR-CALDESC:Events for Sturton Plants
REFRESH-INTERVAL;VALUE=DURATION:PT1H
X-Robots-Tag:noindex
X-PUBLISHED-TTL:PT1H
BEGIN:VTIMEZONE
TZID:Europe/London
BEGIN:DAYLIGHT
TZOFFSETFROM:+0000
TZOFFSETTO:+0100
TZNAME:BST
DTSTART:20220327T010000
END:DAYLIGHT
BEGIN:STANDARD
TZOFFSETFROM:+0100
TZOFFSETTO:+0000
TZNAME:GMT
DTSTART:20221030T010000
END:STANDARD
BEGIN:DAYLIGHT
TZOFFSETFROM:+0000
TZOFFSETTO:+0100
TZNAME:BST
DTSTART:20230326T010000
END:DAYLIGHT
BEGIN:STANDARD
TZOFFSETFROM:+0100
TZOFFSETTO:+0000
TZNAME:GMT
DTSTART:20231029T010000
END:STANDARD
BEGIN:DAYLIGHT
TZOFFSETFROM:+0000
TZOFFSETTO:+0100
TZNAME:BST
DTSTART:20240331T010000
END:DAYLIGHT
BEGIN:STANDARD
TZOFFSETFROM:+0100
TZOFFSETTO:+0000
TZNAME:GMT
DTSTART:20241027T010000
END:STANDARD
BEGIN:DAYLIGHT
TZOFFSETFROM:+0000
TZOFFSETTO:+0100
TZNAME:BST
DTSTART:20250330T010000
END:DAYLIGHT
BEGIN:STANDARD
TZOFFSETFROM:+0100
TZOFFSETTO:+0000
TZNAME:GMT
DTSTART:20251026T010000
END:STANDARD
END:VTIMEZONE
BEGIN:VEVENT
DTSTART;TZID=Europe/London:20240819T090000
DTEND;TZID=Europe/London:20240819T123000
DTSTAMP:20260421T001919
CREATED:20240807T112806Z
LAST-MODIFIED:20240807T112806Z
UID:15693-1724058000-1724070600@sturtonplants.co.uk
SUMMARY:Spilsby Market
DESCRIPTION:Share this:Tweet\n				Share on WhatsApp (Opens in new window)\n				WhatsApp\n			\n				Email a link to a friend (Opens in new window)\n				Email\n			\n				Print (Opens in new window)\n				Print
URL:https://sturtonplants.co.uk/event/spilsby-market-3/
LOCATION:Spilsby Market Place\, PE23 5JT
CATEGORIES:Pop Up Plant Stall
ATTACH;FMTTYPE=image/jpeg:https://sturtonplants.co.uk/wp-content/uploads/2024/08/Spilsby.jpg
END:VEVENT
BEGIN:VEVENT
DTSTART;TZID=Europe/London:20240817T090000
DTEND;TZID=Europe/London:20240817T140000
DTSTAMP:20260421T001919
CREATED:20240708T141903Z
LAST-MODIFIED:20240708T141903Z
UID:14988-1723885200-1723903200@sturtonplants.co.uk
SUMMARY:Hedgerows Farmers Market - Collingham
DESCRIPTION:We’re back at the Hedgerows for this excellent small farmers market. Why not come along & browse the stalls and then take refreshment in the Allotment Cafe & Deli. \nWe will have a wide range of fully hardy plants for your garden and they are all locally grown. \nThe market has plenty of parking and is all on hard standing. \nShare this:Tweet\n				Share on WhatsApp (Opens in new window)\n				WhatsApp\n			\n				Email a link to a friend (Opens in new window)\n				Email\n			\n				Print (Opens in new window)\n				Print
URL:https://sturtonplants.co.uk/event/hedgerows-farmers-market-collingham-4/
LOCATION:The Hedgerows\, Outside Gusto House\, Collingham\, Nottinghamshire\, NG23 7DX
CATEGORIES:Craft & Farmers Markets,Pop Up Plant Stall
END:VEVENT
BEGIN:VEVENT
DTSTART;TZID=Europe/London:20240813T090000
DTEND;TZID=Europe/London:20240813T140000
DTSTAMP:20260421T001919
CREATED:20240708T143132Z
LAST-MODIFIED:20240708T143132Z
UID:14996-1723539600-1723557600@sturtonplants.co.uk
SUMMARY:Market Rasen Tuesday Market
DESCRIPTION:Share this:Tweet\n				Share on WhatsApp (Opens in new window)\n				WhatsApp\n			\n				Email a link to a friend (Opens in new window)\n				Email\n			\n				Print (Opens in new window)\n				Print
URL:https://sturtonplants.co.uk/event/market-rasen-tuesday-market-41/
LOCATION:Market Place (Market Rasen)\, Market Place\, Market Rasen\, Lincolnshire\, LN8 3HJ\, United Kingdom
CATEGORIES:Pop Up Plant Stall
END:VEVENT
BEGIN:VEVENT
DTSTART;TZID=Europe/London:20240812T090000
DTEND;TZID=Europe/London:20240812T123000
DTSTAMP:20260421T001919
CREATED:20240807T081557Z
LAST-MODIFIED:20240807T081557Z
UID:15689-1723453200-1723465800@sturtonplants.co.uk
SUMMARY:Spilsby Market
DESCRIPTION:After a fantastic first market for us last week we will be returning to Spilsby this week. All our plants are hardy and grown hard in Lincolnshire. This means they quickly grow on once planted (as long as you remember to water them for the first few weeks if required). \nWe grow alpines\, herbs and herbaceous perennials\, many of which are excellent for pollinating insects. We have some unusual herbs including the fantastic ginger rosemary which combines the heat of ginger with the familiar rosemary taste. These two flavours compliment each other and give a beautiful flavour to tear & share breads\, tagines and meat dishes (especially lamb). \nShare this:Tweet\n				Share on WhatsApp (Opens in new window)\n				WhatsApp\n			\n				Email a link to a friend (Opens in new window)\n				Email\n			\n				Print (Opens in new window)\n				Print
URL:https://sturtonplants.co.uk/event/spilsby-market-2/
LOCATION:Spilsby Market Place\, PE23 5JT
CATEGORIES:Pop Up Plant Stall
ATTACH;FMTTYPE=image/jpeg:https://sturtonplants.co.uk/wp-content/uploads/2024/08/Spilsby.jpg
END:VEVENT
BEGIN:VEVENT
DTSTART;TZID=Europe/London:20240806T090000
DTEND;TZID=Europe/London:20240806T140000
DTSTAMP:20260421T001919
CREATED:20240708T143005Z
LAST-MODIFIED:20240708T143005Z
UID:14994-1722934800-1722952800@sturtonplants.co.uk
SUMMARY:Market Rasen Tuesday Market
DESCRIPTION:Share this:Tweet\n				Share on WhatsApp (Opens in new window)\n				WhatsApp\n			\n				Email a link to a friend (Opens in new window)\n				Email\n			\n				Print (Opens in new window)\n				Print
URL:https://sturtonplants.co.uk/event/market-rasen-tuesday-market-40/
LOCATION:Market Place (Market Rasen)\, Market Place\, Market Rasen\, Lincolnshire\, LN8 3HJ\, United Kingdom
CATEGORIES:Pop Up Plant Stall
END:VEVENT
BEGIN:VEVENT
DTSTART;TZID=Europe/London:20240805T090000
DTEND;TZID=Europe/London:20240805T140000
DTSTAMP:20260421T001919
CREATED:20240803T173852Z
LAST-MODIFIED:20240803T173852Z
UID:15663-1722848400-1722866400@sturtonplants.co.uk
SUMMARY:Spilsby Market
DESCRIPTION:Spilsby Market is held every Monday from 9 AM–4 PM in Market Place Car Park and Buttercross Car Park in Spilsby\, Lincolnshire\, PE23 5JT\, excluding bank holidays. The market has been established since 1302. \nWe will be bringing our range of Lincolnshire grown hardy garden plants. You can choose from alpines\, herbs and herbaceous perennials with prices starting from £2.50. \nWe have strawberry mint which adds an excellent flavour to summer drinks etc\, spearmint which makes a wonderful herbal tea as well as being excellent on new potatoes and mint sauce\, ginger rosemary is an excellent pairing of the two distinctive flavours. We also have lots of stunning plants for colour in your garden including many you don’t see very often. \n                                                         \nShare this:Tweet\n				Share on WhatsApp (Opens in new window)\n				WhatsApp\n			\n				Email a link to a friend (Opens in new window)\n				Email\n			\n				Print (Opens in new window)\n				Print
URL:https://sturtonplants.co.uk/event/spilsby-market/
LOCATION:Spilsby Market Place\, PE23 5JT
CATEGORIES:Pop Up Plant Stall
END:VEVENT
BEGIN:VEVENT
DTSTART;TZID=Europe/London:20240803T090000
DTEND;TZID=Europe/London:20240803T140000
DTSTAMP:20260421T001919
CREATED:20240708T141543Z
LAST-MODIFIED:20240802T082839Z
UID:14986-1722675600-1722693600@sturtonplants.co.uk
SUMMARY:Hedgerows Farmers Market - Collingham
DESCRIPTION:We’re back at the Hedgerows for this excellent small farmers market. Why not come along & browse the stalls and then take refreshment from the Really Cool Coffee Bus. \nThe market has plenty of parking and is all on hard standing. \nShare this:Tweet\n				Share on WhatsApp (Opens in new window)\n				WhatsApp\n			\n				Email a link to a friend (Opens in new window)\n				Email\n			\n				Print (Opens in new window)\n				Print
URL:https://sturtonplants.co.uk/event/hedgerows-farmers-market-collingham-3/
LOCATION:The Hedgerows\, Outside Gusto House\, Collingham\, Nottinghamshire\, NG23 7DX
CATEGORIES:Craft & Farmers Markets,Pop Up Plant Stall
END:VEVENT
BEGIN:VEVENT
DTSTART;TZID=Europe/London:20240730T090000
DTEND;TZID=Europe/London:20240730T140000
DTSTAMP:20260421T001919
CREATED:20240522T072230Z
LAST-MODIFIED:20240522T072230Z
UID:13500-1722330000-1722348000@sturtonplants.co.uk
SUMMARY:Market Rasen Tuesday Market
DESCRIPTION:Share this:Tweet\n				Share on WhatsApp (Opens in new window)\n				WhatsApp\n			\n				Email a link to a friend (Opens in new window)\n				Email\n			\n				Print (Opens in new window)\n				Print
URL:https://sturtonplants.co.uk/event/market-rasen-tuesday-market-39/
LOCATION:Market Place (Market Rasen)\, Market Place\, Market Rasen\, Lincolnshire\, LN8 3HJ\, United Kingdom
CATEGORIES:Pop Up Plant Stall
END:VEVENT
BEGIN:VEVENT
DTSTART;TZID=Europe/London:20240723T090000
DTEND;TZID=Europe/London:20240723T140000
DTSTAMP:20260421T001919
CREATED:20240522T072116Z
LAST-MODIFIED:20240522T072116Z
UID:13498-1721725200-1721743200@sturtonplants.co.uk
SUMMARY:Market Rasen Tuesday Market
DESCRIPTION:Share this:Tweet\n				Share on WhatsApp (Opens in new window)\n				WhatsApp\n			\n				Email a link to a friend (Opens in new window)\n				Email\n			\n				Print (Opens in new window)\n				Print
URL:https://sturtonplants.co.uk/event/market-rasen-tuesday-market-38/
LOCATION:Market Place (Market Rasen)\, Market Place\, Market Rasen\, Lincolnshire\, LN8 3HJ\, United Kingdom
CATEGORIES:Pop Up Plant Stall
END:VEVENT
BEGIN:VEVENT
DTSTART;TZID=Europe/London:20240720T090000
DTEND;TZID=Europe/London:20240720T140000
DTSTAMP:20260421T001919
CREATED:20240708T141028Z
LAST-MODIFIED:20240708T141028Z
UID:14982-1721466000-1721484000@sturtonplants.co.uk
SUMMARY:Hedgerows Farmers Market - Collingham
DESCRIPTION:We’re back at the Hedgerows for this excellent small farmers market. Why not come along & browse the stalls and then take refreshment in the Allotment Cafe & Deli. \nThe market has plenty of parking and is all on hard standing. \nShare this:Tweet\n				Share on WhatsApp (Opens in new window)\n				WhatsApp\n			\n				Email a link to a friend (Opens in new window)\n				Email\n			\n				Print (Opens in new window)\n				Print
URL:https://sturtonplants.co.uk/event/hedgerows-farmers-market-collingham-2/
LOCATION:The Hedgerows\, Outside Gusto House\, Collingham\, Nottinghamshire\, NG23 7DX
CATEGORIES:Craft & Farmers Markets,Pop Up Plant Stall
END:VEVENT
BEGIN:VEVENT
DTSTART;TZID=Europe/London:20240716T090000
DTEND;TZID=Europe/London:20240716T140000
DTSTAMP:20260421T001919
CREATED:20240522T072016Z
LAST-MODIFIED:20240522T072016Z
UID:13496-1721120400-1721138400@sturtonplants.co.uk
SUMMARY:Market Rasen Tuesday Market
DESCRIPTION:Share this:Tweet\n				Share on WhatsApp (Opens in new window)\n				WhatsApp\n			\n				Email a link to a friend (Opens in new window)\n				Email\n			\n				Print (Opens in new window)\n				Print
URL:https://sturtonplants.co.uk/event/market-rasen-tuesday-market-37/
LOCATION:Market Place (Market Rasen)\, Market Place\, Market Rasen\, Lincolnshire\, LN8 3HJ\, United Kingdom
CATEGORIES:Pop Up Plant Stall
END:VEVENT
BEGIN:VEVENT
DTSTART;TZID=Europe/London:20240709T090000
DTEND;TZID=Europe/London:20240709T140000
DTSTAMP:20260421T001919
CREATED:20240522T071912Z
LAST-MODIFIED:20240522T071912Z
UID:13494-1720515600-1720533600@sturtonplants.co.uk
SUMMARY:Market Rasen Tuesday Market
DESCRIPTION:Share this:Tweet\n				Share on WhatsApp (Opens in new window)\n				WhatsApp\n			\n				Email a link to a friend (Opens in new window)\n				Email\n			\n				Print (Opens in new window)\n				Print
URL:https://sturtonplants.co.uk/event/market-rasen-tuesday-market-36/
LOCATION:Market Place (Market Rasen)\, Market Place\, Market Rasen\, Lincolnshire\, LN8 3HJ\, United Kingdom
CATEGORIES:Pop Up Plant Stall
END:VEVENT
BEGIN:VEVENT
DTSTART;TZID=Europe/London:20240702T090000
DTEND;TZID=Europe/London:20240702T140000
DTSTAMP:20260421T001919
CREATED:20240522T071802Z
LAST-MODIFIED:20240522T071802Z
UID:13492-1719910800-1719928800@sturtonplants.co.uk
SUMMARY:Market Rasen Tuesday Market
DESCRIPTION:Share this:Tweet\n				Share on WhatsApp (Opens in new window)\n				WhatsApp\n			\n				Email a link to a friend (Opens in new window)\n				Email\n			\n				Print (Opens in new window)\n				Print
URL:https://sturtonplants.co.uk/event/market-rasen-tuesday-market-35/
LOCATION:Market Place (Market Rasen)\, Market Place\, Market Rasen\, Lincolnshire\, LN8 3HJ\, United Kingdom
CATEGORIES:Pop Up Plant Stall
END:VEVENT
BEGIN:VEVENT
DTSTART;TZID=Europe/London:20240625T090000
DTEND;TZID=Europe/London:20240625T140000
DTSTAMP:20260421T001919
CREATED:20240522T071636Z
LAST-MODIFIED:20240522T071636Z
UID:13490-1719306000-1719324000@sturtonplants.co.uk
SUMMARY:Market Rasen Tuesday Market
DESCRIPTION:Share this:Tweet\n				Share on WhatsApp (Opens in new window)\n				WhatsApp\n			\n				Email a link to a friend (Opens in new window)\n				Email\n			\n				Print (Opens in new window)\n				Print
URL:https://sturtonplants.co.uk/event/market-rasen-tuesday-market-34/
LOCATION:Market Place (Market Rasen)\, Market Place\, Market Rasen\, Lincolnshire\, LN8 3HJ\, United Kingdom
CATEGORIES:Pop Up Plant Stall
END:VEVENT
BEGIN:VEVENT
DTSTART;TZID=Europe/London:20240618T090000
DTEND;TZID=Europe/London:20240618T140000
DTSTAMP:20260421T001919
CREATED:20240522T071526Z
LAST-MODIFIED:20240522T071526Z
UID:13488-1718701200-1718719200@sturtonplants.co.uk
SUMMARY:Market Rasen Tuesday Market
DESCRIPTION:Share this:Tweet\n				Share on WhatsApp (Opens in new window)\n				WhatsApp\n			\n				Email a link to a friend (Opens in new window)\n				Email\n			\n				Print (Opens in new window)\n				Print
URL:https://sturtonplants.co.uk/event/market-rasen-tuesday-market-33/
LOCATION:Market Place (Market Rasen)\, Market Place\, Market Rasen\, Lincolnshire\, LN8 3HJ\, United Kingdom
CATEGORIES:Pop Up Plant Stall
END:VEVENT
BEGIN:VEVENT
DTSTART;TZID=Europe/London:20240616T100000
DTEND;TZID=Europe/London:20240616T160000
DTSTAMP:20260421T001919
CREATED:20240125T114931Z
LAST-MODIFIED:20240125T114931Z
UID:9937-1718532000-1718553600@sturtonplants.co.uk
SUMMARY:Normanby Hall Food & Flowers Event
DESCRIPTION:Sturton Plants are proud to announce that we have been invited back to the Normanby Hall Food & Flowers Event. We will be bringing our range of herbs\, alpines\, herbaceous perennials and shrubs. All our plants are grown in Lincolnshire and are used to the vagaries of the Lincolnshire & Yorkshire climates! \nLast years event was very busy with a good selection of plant\, craft and food stalls. \n \nAdmission charges may apply. See the Normanby Hall website/social media for details. \nShare this:Tweet\n				Share on WhatsApp (Opens in new window)\n				WhatsApp\n			\n				Email a link to a friend (Opens in new window)\n				Email\n			\n				Print (Opens in new window)\n				Print
URL:https://sturtonplants.co.uk/event/normanby-hall-food-flowers-event/
LOCATION:Normanby Hall\, Normanby Hall Country Park\, Scunthorpe\, North Lincolnshire\, DN15 9HU\, United Kingdom
CATEGORIES:Country Show,Craft & Farmers Markets,Fun Days,Pop Up Plant Stall
ATTACH;FMTTYPE=image/jpeg:https://sturtonplants.co.uk/wp-content/uploads/2023/01/normanby-hall-2.jpg
END:VEVENT
BEGIN:VEVENT
DTSTART;TZID=Europe/London:20240611T090000
DTEND;TZID=Europe/London:20240611T140000
DTSTAMP:20260421T001919
CREATED:20240522T071332Z
LAST-MODIFIED:20240522T071411Z
UID:13486-1718096400-1718114400@sturtonplants.co.uk
SUMMARY:Market Rasen Tuesday Market
DESCRIPTION:Share this:Tweet\n				Share on WhatsApp (Opens in new window)\n				WhatsApp\n			\n				Email a link to a friend (Opens in new window)\n				Email\n			\n				Print (Opens in new window)\n				Print
URL:https://sturtonplants.co.uk/event/market-rasen-tuesday-market-32/
LOCATION:Market Place (Market Rasen)\, Market Place\, Market Rasen\, Lincolnshire\, LN8 3HJ\, United Kingdom
CATEGORIES:Pop Up Plant Stall
END:VEVENT
BEGIN:VEVENT
DTSTART;TZID=Europe/London:20240521T090000
DTEND;TZID=Europe/London:20240521T140000
DTSTAMP:20260421T001919
CREATED:20240327T144406Z
LAST-MODIFIED:20240327T144406Z
UID:11720-1716282000-1716300000@sturtonplants.co.uk
SUMMARY:Market Rasen Tuesday Market
DESCRIPTION:Share this:Tweet\n				Share on WhatsApp (Opens in new window)\n				WhatsApp\n			\n				Email a link to a friend (Opens in new window)\n				Email\n			\n				Print (Opens in new window)\n				Print
URL:https://sturtonplants.co.uk/event/market-rasen-tuesday-market-29/
LOCATION:Market Place (Market Rasen)\, Market Place\, Market Rasen\, Lincolnshire\, LN8 3HJ\, United Kingdom
CATEGORIES:Pop Up Plant Stall
END:VEVENT
BEGIN:VEVENT
DTSTART;TZID=Europe/London:20240514T090000
DTEND;TZID=Europe/London:20240514T140000
DTSTAMP:20260421T001919
CREATED:20240327T144254Z
LAST-MODIFIED:20240327T144254Z
UID:11718-1715677200-1715695200@sturtonplants.co.uk
SUMMARY:Market Rasen Tuesday Market
DESCRIPTION:Share this:Tweet\n				Share on WhatsApp (Opens in new window)\n				WhatsApp\n			\n				Email a link to a friend (Opens in new window)\n				Email\n			\n				Print (Opens in new window)\n				Print
URL:https://sturtonplants.co.uk/event/market-rasen-tuesday-market-28/
LOCATION:Market Place (Market Rasen)\, Market Place\, Market Rasen\, Lincolnshire\, LN8 3HJ\, United Kingdom
CATEGORIES:Pop Up Plant Stall
END:VEVENT
BEGIN:VEVENT
DTSTART;TZID=Europe/London:20240507T080000
DTEND;TZID=Europe/London:20240507T170000
DTSTAMP:20260421T001919
CREATED:20240327T144135Z
LAST-MODIFIED:20240327T144135Z
UID:11716-1715068800-1715101200@sturtonplants.co.uk
SUMMARY:Market Rasen Tuesday Market
DESCRIPTION:Share this:Tweet\n				Share on WhatsApp (Opens in new window)\n				WhatsApp\n			\n				Email a link to a friend (Opens in new window)\n				Email\n			\n				Print (Opens in new window)\n				Print
URL:https://sturtonplants.co.uk/event/market-rasen-tuesday-market-27/
LOCATION:Market Place (Market Rasen)\, Market Place\, Market Rasen\, Lincolnshire\, LN8 3HJ\, United Kingdom
CATEGORIES:Pop Up Plant Stall
END:VEVENT
BEGIN:VEVENT
DTSTART;TZID=Europe/London:20240506T120000
DTEND;TZID=Europe/London:20240506T170000
DTSTAMP:20260421T001919
CREATED:20240412T113752Z
LAST-MODIFIED:20240412T113752Z
UID:12280-1714996800-1715014800@sturtonplants.co.uk
SUMMARY:Welton Village May Fair
DESCRIPTION:We are excited to be bringing our range of Lincolnshire grown garden plants to Welton on May Bank Holiday Monday. \nShare this:Tweet\n				Share on WhatsApp (Opens in new window)\n				WhatsApp\n			\n				Email a link to a friend (Opens in new window)\n				Email\n			\n				Print (Opens in new window)\n				Print
URL:https://sturtonplants.co.uk/event/welton-village-may-fair/
LOCATION:Welton Village Green\, LN2 3LT
CATEGORIES:Fun Days,Pop Up Plant Stall,Village Fete/Fayre
END:VEVENT
BEGIN:VEVENT
DTSTART;TZID=Europe/London:20240430T090000
DTEND;TZID=Europe/London:20240430T140000
DTSTAMP:20260421T001919
CREATED:20240327T144034Z
LAST-MODIFIED:20240327T144034Z
UID:11714-1714467600-1714485600@sturtonplants.co.uk
SUMMARY:Market Rasen Tuesday Market
DESCRIPTION:Share this:Tweet\n				Share on WhatsApp (Opens in new window)\n				WhatsApp\n			\n				Email a link to a friend (Opens in new window)\n				Email\n			\n				Print (Opens in new window)\n				Print
URL:https://sturtonplants.co.uk/event/market-rasen-tuesday-market-26/
LOCATION:Market Place (Market Rasen)\, Market Place\, Market Rasen\, Lincolnshire\, LN8 3HJ\, United Kingdom
CATEGORIES:Pop Up Plant Stall
END:VEVENT
BEGIN:VEVENT
DTSTART;TZID=Europe/London:20230903T090000
DTEND;TZID=Europe/London:20230903T170000
DTSTAMP:20260421T001919
CREATED:20230802T134209Z
LAST-MODIFIED:20230802T134438Z
UID:6264-1693731600-1693760400@sturtonplants.co.uk
SUMMARY:Wragby Show & Country Fayre
DESCRIPTION:We’re excited to be having a stall at this years Wragby show & country fayre. We will be bringing our range of Lincolnshire grown alpines\, herbs & herbaceous perennials. We should also have plenty of spring flowering bulbs for sale as well \nThere will be plenty to see and do including a fun dog show\, trade stands\, vintage cars & tractors\, childrens entertainers\, vegetable and animal judging\, live music\, horse show and much more. See the dedicated website for details. \n  \nAdmission Costs: \nAdults – 17 & Over £11.00 \nChildren – Aged 5-16 £4.00 \nChildren – Under 5 FREE \nParking FREE \n  \nShare this:Tweet\n				Share on WhatsApp (Opens in new window)\n				WhatsApp\n			\n				Email a link to a friend (Opens in new window)\n				Email\n			\n				Print (Opens in new window)\n				Print
URL:https://sturtonplants.co.uk/event/wragby-show-country-fayre/
LOCATION:Wragby Show\, Catchem's Corner\, Goltho\, Lincolnshire\, LN8 5JD\, United Kingdom
CATEGORIES:Craft & Farmers Markets,Fun Days,Pop Up Plant Stall
ATTACH;FMTTYPE=image/jpeg:https://sturtonplants.co.uk/wp-content/uploads/2023/08/Wragby-show.jpg
END:VEVENT
BEGIN:VEVENT
DTSTART;TZID=Europe/London:20230829T080000
DTEND;TZID=Europe/London:20230829T123000
DTSTAMP:20260421T001919
CREATED:20230628T142345Z
LAST-MODIFIED:20230705T152934Z
UID:5748-1693296000-1693312200@sturtonplants.co.uk
SUMMARY:Market Rasen Tuesday Market
DESCRIPTION:We are looking forward to attending the market at Market Rasen Market Place this Tuesday with our range of Lincolnshire grown\, hardy alpines\, herbaceous perennials and herbs. All are grown in peat free composts and ready for planting out now. We also have a limited amount of peat free compost for sale as well. \nShare this:Tweet\n				Share on WhatsApp (Opens in new window)\n				WhatsApp\n			\n				Email a link to a friend (Opens in new window)\n				Email\n			\n				Print (Opens in new window)\n				Print
URL:https://sturtonplants.co.uk/event/market-rasen-tuesday-market-18/
LOCATION:Market Place (Market Rasen)\, Market Place\, Market Rasen\, Lincolnshire\, LN8 3HJ\, United Kingdom
CATEGORIES:Pop Up Plant Stall
ATTACH;FMTTYPE=image/jpeg:https://sturtonplants.co.uk/wp-content/uploads/2023/06/Market-Rasen-e1691053129593.jpg
END:VEVENT
BEGIN:VEVENT
DTSTART;TZID=Europe/London:20230822T090000
DTEND;TZID=Europe/London:20230822T123000
DTSTAMP:20260421T001919
CREATED:20230628T142203Z
LAST-MODIFIED:20230705T153012Z
UID:5746-1692694800-1692707400@sturtonplants.co.uk
SUMMARY:Market Rasen Tuesday Market
DESCRIPTION:We are looking forward to attending the market at Market Rasen Market Place this Tuesday with our range of Lincolnshire grown\, hardy alpines\, herbaceous perennials and herbs. All are grown in peat free composts and ready for planting out now. We also have a limited amount of peat free compost for sale as well. \nShare this:Tweet\n				Share on WhatsApp (Opens in new window)\n				WhatsApp\n			\n				Email a link to a friend (Opens in new window)\n				Email\n			\n				Print (Opens in new window)\n				Print
URL:https://sturtonplants.co.uk/event/market-rasen-tuesday-market-17/
LOCATION:Market Place (Market Rasen)\, Market Place\, Market Rasen\, Lincolnshire\, LN8 3HJ\, United Kingdom
CATEGORIES:Pop Up Plant Stall
ATTACH;FMTTYPE=image/jpeg:https://sturtonplants.co.uk/wp-content/uploads/2023/06/Market-Rasen-e1691053129593.jpg
END:VEVENT
BEGIN:VEVENT
DTSTART;TZID=Europe/London:20230816T130000
DTEND;TZID=Europe/London:20230816T160000
DTSTAMP:20260421T001919
CREATED:20230803T075807Z
LAST-MODIFIED:20230803T075900Z
UID:6467-1692190800-1692201600@sturtonplants.co.uk
SUMMARY:Tetford Summer Market
DESCRIPTION:We are delighted to have been invited to the Tetford Summer Market. \nWe will be bringing our range of Lincolnshire grown alpines\, herbs and herbaceous perennial plants. All our plants are hardy and grown without the use of chemical herbicides and pesticides. Prices start from only £2.50 \nShare this:Tweet\n				Share on WhatsApp (Opens in new window)\n				WhatsApp\n			\n				Email a link to a friend (Opens in new window)\n				Email\n			\n				Print (Opens in new window)\n				Print
URL:https://sturtonplants.co.uk/event/tetford-summer-market/
LOCATION:Hamilton Hall\, East Road\, Tetford\, Lincolnshire\, LN9 6QQ\, United Kingdom
CATEGORIES:Craft & Farmers Markets,Pop Up Plant Stall
ATTACH;FMTTYPE=image/jpeg:https://sturtonplants.co.uk/wp-content/uploads/2023/04/Market-Rasen.jpg
END:VEVENT
BEGIN:VEVENT
DTSTART;TZID=Europe/London:20230815T090000
DTEND;TZID=Europe/London:20230815T123000
DTSTAMP:20260421T001919
CREATED:20230628T142005Z
LAST-MODIFIED:20230705T153050Z
UID:5744-1692090000-1692102600@sturtonplants.co.uk
SUMMARY:Market Rasen Tuesday Market
DESCRIPTION:We are looking forward to attending the market at Market Rasen Market Place this Tuesday with our range of Lincolnshire grown\, hardy alpines\, herbaceous perennials and herbs. All are grown in peat free composts and ready for planting out now. We also have a limited amount of peat free compost for sale as well. \nShare this:Tweet\n				Share on WhatsApp (Opens in new window)\n				WhatsApp\n			\n				Email a link to a friend (Opens in new window)\n				Email\n			\n				Print (Opens in new window)\n				Print
URL:https://sturtonplants.co.uk/event/market-rasen-tuesday-market-16/
LOCATION:Market Place (Market Rasen)\, Market Place\, Market Rasen\, Lincolnshire\, LN8 3HJ\, United Kingdom
CATEGORIES:Pop Up Plant Stall
ATTACH;FMTTYPE=image/jpeg:https://sturtonplants.co.uk/wp-content/uploads/2023/06/Market-Rasen-e1691053129593.jpg
END:VEVENT
BEGIN:VEVENT
DTSTART;TZID=Europe/London:20230808T090000
DTEND;TZID=Europe/London:20230808T123000
DTSTAMP:20260421T001919
CREATED:20230628T141732Z
LAST-MODIFIED:20230705T153145Z
UID:5742-1691485200-1691497800@sturtonplants.co.uk
SUMMARY:Market Rasen Tuesday Market
DESCRIPTION:We are looking forward to attending the market at Market Rasen Market Place this Tuesday with our range of Lincolnshire grown\, hardy alpines\, herbaceous perennials and herbs. All are grown in peat free composts and ready for planting out now. We also have a limited amount of peat free compost for sale as well. \nShare this:Tweet\n				Share on WhatsApp (Opens in new window)\n				WhatsApp\n			\n				Email a link to a friend (Opens in new window)\n				Email\n			\n				Print (Opens in new window)\n				Print
URL:https://sturtonplants.co.uk/event/market-rasen-tuesday-market-15/
LOCATION:Market Place (Market Rasen)\, Market Place\, Market Rasen\, Lincolnshire\, LN8 3HJ\, United Kingdom
CATEGORIES:Pop Up Plant Stall
ATTACH;FMTTYPE=image/jpeg:https://sturtonplants.co.uk/wp-content/uploads/2023/05/343063074_889256308809847_5188934148564484208_n.jpg
END:VEVENT
BEGIN:VEVENT
DTSTART;TZID=Europe/London:20230801T090000
DTEND;TZID=Europe/London:20230801T123000
DTSTAMP:20260421T001919
CREATED:20230628T141519Z
LAST-MODIFIED:20230705T153234Z
UID:5740-1690880400-1690893000@sturtonplants.co.uk
SUMMARY:Market Rasen Tuesday Market
DESCRIPTION:We are looking forward to attending the market at Market Rasen Market Place this Tuesday with our range of Lincolnshire grown\, hardy alpines\, herbaceous perennials and herbs. All are grown in peat free composts and ready for planting out now. We also have a limited amount of peat free compost for sale as well. \nShare this:Tweet\n				Share on WhatsApp (Opens in new window)\n				WhatsApp\n			\n				Email a link to a friend (Opens in new window)\n				Email\n			\n				Print (Opens in new window)\n				Print
URL:https://sturtonplants.co.uk/event/market-rasen-tuesday-market-14/
LOCATION:Market Place (Market Rasen)\, Market Place\, Market Rasen\, Lincolnshire\, LN8 3HJ\, United Kingdom
CATEGORIES:Pop Up Plant Stall
ATTACH;FMTTYPE=image/jpeg:https://sturtonplants.co.uk/wp-content/uploads/2023/06/Market-Rasen-e1691053129593.jpg
END:VEVENT
BEGIN:VEVENT
DTSTART;TZID=Europe/London:20230725T090000
DTEND;TZID=Europe/London:20230725T123000
DTSTAMP:20260421T001919
CREATED:20230705T153657Z
LAST-MODIFIED:20230705T153657Z
UID:5864-1690275600-1690288200@sturtonplants.co.uk
SUMMARY:Market Rasen Tuesday Market
DESCRIPTION:We are looking forward to attending the market at Market Rasen Market Place this Tuesday with our range of Lincolnshire grown\, hardy alpines\, herbaceous perennials and herbs. All are grown in peat free composts and are ready for planting out now. We also have a limited amount of peat free compost for sale as well. \nShare this:Tweet\n				Share on WhatsApp (Opens in new window)\n				WhatsApp\n			\n				Email a link to a friend (Opens in new window)\n				Email\n			\n				Print (Opens in new window)\n				Print
URL:https://sturtonplants.co.uk/event/market-rasen-tuesday-market-23/
LOCATION:Lincolnshire
CATEGORIES:Pop Up Plant Stall
ATTACH;FMTTYPE=image/jpeg:https://sturtonplants.co.uk/wp-content/uploads/2023/06/Market-Rasen-e1691053129593.jpg
END:VEVENT
END:VCALENDAR