BEGIN:VCALENDAR
VERSION:2.0
PRODID:-//Sturton Plants - ECPv6.15.20//NONSGML v1.0//EN
CALSCALE:GREGORIAN
METHOD:PUBLISH
X-ORIGINAL-URL:https://sturtonplants.co.uk
X-WR-CALDESC:Events for Sturton Plants
REFRESH-INTERVAL;VALUE=DURATION:PT1H
X-Robots-Tag:noindex
X-PUBLISHED-TTL:PT1H
BEGIN:VTIMEZONE
TZID:Europe/London
BEGIN:DAYLIGHT
TZOFFSETFROM:+0000
TZOFFSETTO:+0100
TZNAME:BST
DTSTART:20240331T010000
END:DAYLIGHT
BEGIN:STANDARD
TZOFFSETFROM:+0100
TZOFFSETTO:+0000
TZNAME:GMT
DTSTART:20241027T010000
END:STANDARD
BEGIN:DAYLIGHT
TZOFFSETFROM:+0000
TZOFFSETTO:+0100
TZNAME:BST
DTSTART:20250330T010000
END:DAYLIGHT
BEGIN:STANDARD
TZOFFSETFROM:+0100
TZOFFSETTO:+0000
TZNAME:GMT
DTSTART:20251026T010000
END:STANDARD
BEGIN:DAYLIGHT
TZOFFSETFROM:+0000
TZOFFSETTO:+0100
TZNAME:BST
DTSTART:20260329T010000
END:DAYLIGHT
BEGIN:STANDARD
TZOFFSETFROM:+0100
TZOFFSETTO:+0000
TZNAME:GMT
DTSTART:20261025T010000
END:STANDARD
END:VTIMEZONE
BEGIN:VEVENT
DTSTART;TZID=Europe/London:20250523T100000
DTEND;TZID=Europe/London:20250523T140000
DTSTAMP:20260419T160645
CREATED:20250226T104632Z
LAST-MODIFIED:20250226T112015Z
UID:19139-1747994400-1748008800@sturtonplants.co.uk
SUMMARY:Wragby Market
DESCRIPTION:Share this:Tweet\n				Share on WhatsApp (Opens in new window)\n				WhatsApp\n			\n				Email a link to a friend (Opens in new window)\n				Email\n			\n				Print (Opens in new window)\n				Print
URL:https://sturtonplants.co.uk/event/wragby-market-6/
LOCATION:The Adam & Eve Pub\, Marketplace\, Wragby\, Lincolnshire\, LN8 5QU\, United Kingdom
CATEGORIES:Craft & Farmers Markets
END:VEVENT
END:VCALENDAR